BEGIN:VCALENDAR
VERSION:2.0
PRODID:-//aldridgegardens.com//NONSGML kigkonsult.se iCalcreator 2.30.10//
CALSCALE:GREGORIAN
METHOD:PUBLISH
UID:2704de33-5b4b-467a-b452-b22eeb1360e6
X-WR-CALDESC:June 11 - 15\nEntering Grades 5k – 3\n\nUnleash your creativit
 y. Make things. Something BIG\, colorful\, and wild!\n\nInstructor: Leigh 
 Smith
X-WR-RELCALID:4b31369abb4e1a032f19ed67a8e8364f
X-WR-TIMEZONE:America/Chicago
BEGIN:VTIMEZONE
TZID:America/Chicago
BEGIN:STANDARD
TZNAME:CST
DTSTART:20171105T020000
TZOFFSETFROM:-0500
TZOFFSETTO:-0600
RDATE:20181104T020000
RDATE:20191103T020000
END:STANDARD
BEGIN:DAYLIGHT
TZNAME:CDT
DTSTART:20180311T020000
TZOFFSETFROM:-0600
TZOFFSETTO:-0500
RDATE:20190310T020000
END:DAYLIGHT
END:VTIMEZONE
BEGIN:VEVENT
UID:d796e8ba-7304-4dab-859f-30a3dbfe5df5
DTSTAMP:20260421T032324Z
DESCRIPTION:June 11 - 15\nEntering Grades 5k – 3\n\nUnleash your creativity
 . Make things. Something BIG\, colorful\, and wild!\n\nInstructor: Leigh S
 mith
DTSTART;TZID=America/Chicago:20180611T090000
DTEND;TZID=America/Chicago:20180611T120000
LOCATION:
SUMMARY:Summer Camp: Cool Art Grades 5k-3rd
END:VEVENT
END:VCALENDAR
