BEGIN:VCALENDAR
VERSION:2.0
PRODID:-//aldridgegardens.com//NONSGML kigkonsult.se iCalcreator 2.30.10//
CALSCALE:GREGORIAN
METHOD:PUBLISH
UID:524e4822-15ce-4411-94de-823dfd3a0cdb
X-WR-CALDESC:June 11 - 15\nEntering Grades 5k – 3\n\nBuild and create with 
 nature! \n\nInstructor: Mandy Cramer
X-WR-RELCALID:b78a9a27a0ad417808e91c3a56820790
X-WR-TIMEZONE:America/Chicago
BEGIN:VTIMEZONE
TZID:America/Chicago
BEGIN:STANDARD
TZNAME:CST
DTSTART:20171105T020000
TZOFFSETFROM:-0500
TZOFFSETTO:-0600
RDATE:20181104T020000
RDATE:20191103T020000
END:STANDARD
BEGIN:DAYLIGHT
TZNAME:CDT
DTSTART:20180311T020000
TZOFFSETFROM:-0600
TZOFFSETTO:-0500
RDATE:20190310T020000
END:DAYLIGHT
END:VTIMEZONE
BEGIN:VEVENT
UID:91c99017-a4bb-47d5-b8ce-9be19e286115
DTSTAMP:20260421T032208Z
DESCRIPTION:June 11 - 15\nEntering Grades 5k – 3\n\nBuild and create with n
 ature! \n\nInstructor: Mandy Cramer
DTSTART;TZID=America/Chicago:20180611T090000
DTEND;TZID=America/Chicago:20180611T120000
LOCATION:
SUMMARY:Summer Camp: Engineering and Construction Grades 5k-3rd
END:VEVENT
END:VCALENDAR
