BEGIN:VCALENDAR
VERSION:2.0
PRODID:-//aldridgegardens.com//NONSGML kigkonsult.se iCalcreator 2.30.10//
CALSCALE:GREGORIAN
METHOD:PUBLISH
UID:105d1dcf-2f52-4682-8a7e-fa1f3def9c64
X-WR-CALDESC:Based in Bluff Park\, Jayne Morgan is best known for her honey
  bear paintings inspired by sweet childhood memories of growing up around 
 the dinner table with her family. The honey bear always had to be on the t
 able before the blessing. In fact\, whatever bread that was served with di
 nner was covered in honey and became dessert. Don't miss your chance to he
 ar her speak about the past and present events that inspire her work. \n\n
 Join us on Tuesday the 12th to hear Jayne speak directly about her exhibit
  at Aldridge Gardens. \n
X-WR-RELCALID:7b69d13c2e8013246767cefd18523ce7
X-WR-TIMEZONE:America/Chicago
BEGIN:VTIMEZONE
TZID:America/Chicago
BEGIN:STANDARD
TZNAME:CST
DTSTART:20171105T020000
TZOFFSETFROM:-0500
TZOFFSETTO:-0600
RDATE:20181104T020000
RDATE:20191103T020000
END:STANDARD
BEGIN:DAYLIGHT
TZNAME:CDT
DTSTART:20180311T020000
TZOFFSETFROM:-0600
TZOFFSETTO:-0500
RDATE:20190310T020000
END:DAYLIGHT
END:VTIMEZONE
BEGIN:VEVENT
UID:5b7a1722-89ef-4f13-aed6-67030278bca7
DTSTAMP:20260421T032733Z
DESCRIPTION:Based in Bluff Park\, Jayne Morgan is best known for her honey 
 bear paintings inspired by sweet childhood memories of growing up around t
 he dinner table with her family. The honey bear always had to be on the ta
 ble before the blessing. In fact\, whatever bread that was served with din
 ner was covered in honey and became dessert. Don't miss your chance to hea
 r her speak about the past and present events that inspire her work. \n\nJ
 oin us on Tuesday the 12th to hear Jayne speak directly about her exhibit 
 at Aldridge Gardens. \n
DTSTART;TZID=America/Chicago:20180612T180000
DTEND;TZID=America/Chicago:20180612T190000
LOCATION:Eddie and Kay Aldridge Arts and Historical Collections Museum
SUMMARY:Meet the Artist Reception - Jayne Morgan
END:VEVENT
END:VCALENDAR
