BEGIN:VCALENDAR
VERSION:2.0
PRODID:-//aldridgegardens.com//NONSGML kigkonsult.se iCalcreator 2.30.10//
CALSCALE:GREGORIAN
METHOD:PUBLISH
UID:26f6ec4e-a438-4ed2-b759-0c406dc37409
X-WR-CALDESC:<b>Summer Camps for the week of June 11 - 15</b>\n\nAmerican G
 irl Dolls (5K-3)\nBring your doll for tea parties & group activities. Make
  crafts & accessories for you and your doll. (Includes My Life or Our Gene
 ration Dolls) Instructor: Kayla Latuso\n\nAmerican Girl Dolls (3-5) \nAmer
 ican Girl Doll activities for grades 3rd through 5th. Instructor: Nancy Mc
 Gowan\n\nCool Art (5K-3)\nUnleash your creativity. Make things. Something 
 BIG\, colorful\, and wild! Instructor: Leigh Smith\n\nEngineering and Cons
 truction (5K-3)\nBuild and create with nature! Instructor: Mandy Cramer\n
X-WR-RELCALID:0caadbd1db3f1663416d21ef6d9056bc
X-WR-TIMEZONE:America/Chicago
BEGIN:VTIMEZONE
TZID:America/Chicago
BEGIN:STANDARD
TZNAME:CST
DTSTART:20171105T020000
TZOFFSETFROM:-0500
TZOFFSETTO:-0600
RDATE:20181104T020000
RDATE:20191103T020000
END:STANDARD
BEGIN:DAYLIGHT
TZNAME:CDT
DTSTART:20180311T020000
TZOFFSETFROM:-0600
TZOFFSETTO:-0500
RDATE:20190310T020000
END:DAYLIGHT
END:VTIMEZONE
BEGIN:VEVENT
UID:0d2760a8-5f15-4e8b-9f45-ce8dfb71579f
DTSTAMP:20260421T032351Z
DESCRIPTION:<b>Summer Camps for the week of June 11 - 15</b>\n\nAmerican Gi
 rl Dolls (5K-3)\nBring your doll for tea parties & group activities. Make 
 crafts & accessories for you and your doll. (Includes My Life or Our Gener
 ation Dolls) Instructor: Kayla Latuso\n\nAmerican Girl Dolls (3-5) \nAmeri
 can Girl Doll activities for grades 3rd through 5th. Instructor: Nancy McG
 owan\n\nCool Art (5K-3)\nUnleash your creativity. Make things. Something B
 IG\, colorful\, and wild! Instructor: Leigh Smith\n\nEngineering and Const
 ruction (5K-3)\nBuild and create with nature! Instructor: Mandy Cramer\n
DTSTART;TZID=America/Chicago:20180612T090000
DTEND;TZID=America/Chicago:20180612T120000
LOCATION:
SUMMARY:Summer Camps
END:VEVENT
END:VCALENDAR
