BEGIN:VCALENDAR
VERSION:2.0
PRODID:-//aldridgegardens.com//NONSGML kigkonsult.se iCalcreator 2.30.10//
CALSCALE:GREGORIAN
METHOD:PUBLISH
UID:1b2f84ee-17e1-4b4f-81b3-414731cd0261
X-WR-CALDESC:June 18 - 22\nEntering Grades 5k – 3\n\nIt’s time for summer! 
 Girls\, are you ready for some fun? Bring your doll to camp at Aldridge Ga
 rdens. (May also include My Life or Our Generation Dolls.) You and your do
 ll will explore the magic of the Gardens\, you’ll make all kinds of access
 ories and crafts for you and your dolls\, and even have a tea party!  Join
  us as we make new friends and great memories!\n\nInstructor: Mandy Cramer
X-WR-RELCALID:404dacc568bf728e858d8f3ec1f025b9
X-WR-TIMEZONE:America/Chicago
BEGIN:VTIMEZONE
TZID:America/Chicago
BEGIN:STANDARD
TZNAME:CST
DTSTART:20171105T020000
TZOFFSETFROM:-0500
TZOFFSETTO:-0600
RDATE:20181104T020000
RDATE:20191103T020000
END:STANDARD
BEGIN:DAYLIGHT
TZNAME:CDT
DTSTART:20180311T020000
TZOFFSETFROM:-0600
TZOFFSETTO:-0500
RDATE:20190310T020000
END:DAYLIGHT
END:VTIMEZONE
BEGIN:VEVENT
UID:9c23a036-34c8-4d23-bc82-ac1e9f7ea2e5
DTSTAMP:20260421T032800Z
DESCRIPTION:June 18 - 22\nEntering Grades 5k – 3\n\nIt’s time for summer! G
 irls\, are you ready for some fun? Bring your doll to camp at Aldridge Gar
 dens. (May also include My Life or Our Generation Dolls.) You and your dol
 l will explore the magic of the Gardens\, you’ll make all kinds of accesso
 ries and crafts for you and your dolls\, and even have a tea party!  Join 
 us as we make new friends and great memories!\n\nInstructor: Mandy Cramer
DTSTART;TZID=America/Chicago:20180618T090000
DTEND;TZID=America/Chicago:20180618T120000
LOCATION:
SUMMARY:Summer Camp: American Girl Dolls Grades 5k-3rd
END:VEVENT
END:VCALENDAR
