BEGIN:VCALENDAR
VERSION:2.0
PRODID:-//aldridgegardens.com//NONSGML kigkonsult.se iCalcreator 2.30.10//
CALSCALE:GREGORIAN
METHOD:PUBLISH
UID:8fc26fd3-1132-425e-b035-a98991641bb4
X-WR-CALDESC:June 18 - 22\nEntering Grades 5k – 3\n\nVisit a different coun
 try with projects and activities each day! \n\nInstructor: Ki Shin\n\n<b>R
 egistration for this camp is closed.</b>\n
X-WR-RELCALID:ea34209825d159c809583212f705cf53
X-WR-TIMEZONE:America/Chicago
BEGIN:VTIMEZONE
TZID:America/Chicago
BEGIN:STANDARD
TZNAME:CST
DTSTART:20171105T020000
TZOFFSETFROM:-0500
TZOFFSETTO:-0600
RDATE:20181104T020000
RDATE:20191103T020000
END:STANDARD
BEGIN:DAYLIGHT
TZNAME:CDT
DTSTART:20180311T020000
TZOFFSETFROM:-0600
TZOFFSETTO:-0500
RDATE:20190310T020000
END:DAYLIGHT
END:VTIMEZONE
BEGIN:VEVENT
UID:47a81374-7d73-45cf-b02c-b944df06e676
DTSTAMP:20260421T032632Z
DESCRIPTION:June 18 - 22\nEntering Grades 5k – 3\n\nVisit a different count
 ry with projects and activities each day! \n\nInstructor: Ki Shin\n\n<b>Re
 gistration for this camp is closed.</b>\n
DTSTART;TZID=America/Chicago:20180618T090000
DTEND;TZID=America/Chicago:20180618T120000
LOCATION:
SUMMARY:Summer Camp: Around the World in 5 Days Grades 5k-3rd
END:VEVENT
END:VCALENDAR
