BEGIN:VCALENDAR
VERSION:2.0
PRODID:-//aldridgegardens.com//NONSGML kigkonsult.se iCalcreator 2.30.10//
CALSCALE:GREGORIAN
METHOD:PUBLISH
UID:32292bfe-5ace-4442-8441-ada707278541
X-WR-CALDESC:June 18 - 22\nEntering Grades 5k – 3\n\nBuild and create with 
 nature! \n\nInstructor: Mandy Cramer\n\n<b>Registration for this camp is c
 losed.</b>\n
X-WR-RELCALID:00d6582e74edbbfb1d1e15d1179a5a1b
X-WR-TIMEZONE:America/Chicago
BEGIN:VTIMEZONE
TZID:America/Chicago
BEGIN:STANDARD
TZNAME:CST
DTSTART:20171105T020000
TZOFFSETFROM:-0500
TZOFFSETTO:-0600
RDATE:20181104T020000
RDATE:20191103T020000
END:STANDARD
BEGIN:DAYLIGHT
TZNAME:CDT
DTSTART:20180311T020000
TZOFFSETFROM:-0600
TZOFFSETTO:-0500
RDATE:20190310T020000
END:DAYLIGHT
END:VTIMEZONE
BEGIN:VEVENT
UID:42cf3925-445d-4f7e-adca-26a109699bbe
DTSTAMP:20260421T032207Z
DESCRIPTION:June 18 - 22\nEntering Grades 5k – 3\n\nBuild and create with n
 ature! \n\nInstructor: Mandy Cramer\n\n<b>Registration for this camp is cl
 osed.</b>\n
DTSTART;TZID=America/Chicago:20180618T090000
DTEND;TZID=America/Chicago:20180618T120000
LOCATION:
SUMMARY:Summer Camp: Engineering and Construction Grades 5k-3rd
END:VEVENT
END:VCALENDAR
