BEGIN:VCALENDAR
VERSION:2.0
PRODID:-//aldridgegardens.com//NONSGML kigkonsult.se iCalcreator 2.30.10//
CALSCALE:GREGORIAN
METHOD:PUBLISH
UID:3b8dc938-9fca-4bb2-87d2-44dc7b3825be
X-WR-CALDESC:June 18 - 22\nEntering Grades 5k – 3\n\nUse Science\, Tech\, E
 ngineering\, Art\, and Math in all sorts of ways in the Gardens.\n\nInstru
 ctor: Cadie Frazier
X-WR-RELCALID:b4b0ea9822f63108ec22f5090c6363b8
X-WR-TIMEZONE:America/Chicago
BEGIN:VTIMEZONE
TZID:America/Chicago
BEGIN:STANDARD
TZNAME:CST
DTSTART:20171105T020000
TZOFFSETFROM:-0500
TZOFFSETTO:-0600
RDATE:20181104T020000
RDATE:20191103T020000
END:STANDARD
BEGIN:DAYLIGHT
TZNAME:CDT
DTSTART:20180311T020000
TZOFFSETFROM:-0600
TZOFFSETTO:-0500
RDATE:20190310T020000
END:DAYLIGHT
END:VTIMEZONE
BEGIN:VEVENT
UID:869b77fb-5628-4ada-9561-dc8bb0b9265d
DTSTAMP:20260421T032453Z
DESCRIPTION:June 18 - 22\nEntering Grades 5k – 3\n\nUse Science\, Tech\, En
 gineering\, Art\, and Math in all sorts of ways in the Gardens.\n\nInstruc
 tor: Cadie Frazier
DTSTART;TZID=America/Chicago:20180618T090000
DTEND;TZID=America/Chicago:20180618T120000
LOCATION:
SUMMARY:Summer Camp: S.T.E.A.M. Lab Grades 5k-3rd
END:VEVENT
END:VCALENDAR
