BEGIN:VCALENDAR
VERSION:2.0
PRODID:-//aldridgegardens.com//NONSGML kigkonsult.se iCalcreator 2.30.10//
CALSCALE:GREGORIAN
METHOD:PUBLISH
UID:c6bf42d4-e53a-47e6-89ef-09b34763699f
X-WR-CALDESC:<b>Summer Camps for the week of June 18 - 22</b>\n\nAmerican G
 irl Dolls (5K-3) \nBring your doll for tea parties and group activities. M
 ake crafts and accessories for you and your doll. (Includes My Life or Our
  Generation Dolls) Instructor: Aleshia Paige\n\nS.T.E.A.M LAB (5K-3) \nUse
  Science\, Tech\, Engineering\, Art\, & Math in all sorts of ways in the G
 ardens. Instructor: Cadie Frazier\n\nAround the World in 5 Days (5K-3) \nV
 isit a different country with projects and activities each day! Instructor
 : Ki Shin\n\nEngineering & Construction 5K-3 \nBuild and create with natur
 e! Instructor: Mandy Cramer
X-WR-RELCALID:d99bbc419f993a3463ee9e298e6fadf1
X-WR-TIMEZONE:America/Chicago
BEGIN:VTIMEZONE
TZID:America/Chicago
BEGIN:STANDARD
TZNAME:CST
DTSTART:20171105T020000
TZOFFSETFROM:-0500
TZOFFSETTO:-0600
RDATE:20181104T020000
RDATE:20191103T020000
END:STANDARD
BEGIN:DAYLIGHT
TZNAME:CDT
DTSTART:20180311T020000
TZOFFSETFROM:-0600
TZOFFSETTO:-0500
RDATE:20190310T020000
END:DAYLIGHT
END:VTIMEZONE
BEGIN:VEVENT
UID:d09ad0cf-4eb7-4b55-8247-5ff248cae6f1
DTSTAMP:20260421T032350Z
DESCRIPTION:<b>Summer Camps for the week of June 18 - 22</b>\n\nAmerican Gi
 rl Dolls (5K-3) \nBring your doll for tea parties and group activities. Ma
 ke crafts and accessories for you and your doll. (Includes My Life or Our 
 Generation Dolls) Instructor: Aleshia Paige\n\nS.T.E.A.M LAB (5K-3) \nUse 
 Science\, Tech\, Engineering\, Art\, & Math in all sorts of ways in the Ga
 rdens. Instructor: Cadie Frazier\n\nAround the World in 5 Days (5K-3) \nVi
 sit a different country with projects and activities each day! Instructor:
  Ki Shin\n\nEngineering & Construction 5K-3 \nBuild and create with nature
 ! Instructor: Mandy Cramer
DTSTART;TZID=America/Chicago:20180619T090000
DTEND;TZID=America/Chicago:20180619T120000
LOCATION:
SUMMARY:Summer Camps
END:VEVENT
END:VCALENDAR
