BEGIN:VCALENDAR
VERSION:2.0
PRODID:-//aldridgegardens.com//NONSGML kigkonsult.se iCalcreator 2.30.10//
CALSCALE:GREGORIAN
METHOD:PUBLISH
UID:2c796f94-2db8-4264-b221-96f6b791c76b
X-WR-CALDESC:<b>Summer Camps for the week of June 18 - 22</b>\n\nAmerican G
 irl Dolls (5K-3) \nBring your doll for tea parties and group activities. M
 ake crafts and accessories for you and your doll. (Includes My Life or Our
  Generation Dolls) Instructor: Aleshia Paige\n\nS.T.E.A.M LAB (5K-3) \nUse
  Science\, Tech\, Engineering\, Art\, & Math in all sorts of ways in the G
 ardens. Instructor: Cadie Frazier\n\nAround the World in 5 Days (5K-3) \nV
 isit a different country with projects and activities each day! Instructor
 : Ki Shin\n\nEngineering & Construction 5K-3 \nBuild and create with natur
 e! Instructor: Mandy Cramer
X-WR-RELCALID:600eba2bd113cd89be5043cf679c52d2
X-WR-TIMEZONE:America/Chicago
BEGIN:VTIMEZONE
TZID:America/Chicago
BEGIN:STANDARD
TZNAME:CST
DTSTART:20171105T020000
TZOFFSETFROM:-0500
TZOFFSETTO:-0600
RDATE:20181104T020000
RDATE:20191103T020000
END:STANDARD
BEGIN:DAYLIGHT
TZNAME:CDT
DTSTART:20180311T020000
TZOFFSETFROM:-0600
TZOFFSETTO:-0500
RDATE:20190310T020000
END:DAYLIGHT
END:VTIMEZONE
BEGIN:VEVENT
UID:54b05b39-c7b9-489f-8dd7-fd2c5ca7973b
DTSTAMP:20260421T031928Z
DESCRIPTION:<b>Summer Camps for the week of June 18 - 22</b>\n\nAmerican Gi
 rl Dolls (5K-3) \nBring your doll for tea parties and group activities. Ma
 ke crafts and accessories for you and your doll. (Includes My Life or Our 
 Generation Dolls) Instructor: Aleshia Paige\n\nS.T.E.A.M LAB (5K-3) \nUse 
 Science\, Tech\, Engineering\, Art\, & Math in all sorts of ways in the Ga
 rdens. Instructor: Cadie Frazier\n\nAround the World in 5 Days (5K-3) \nVi
 sit a different country with projects and activities each day! Instructor:
  Ki Shin\n\nEngineering & Construction 5K-3 \nBuild and create with nature
 ! Instructor: Mandy Cramer
DTSTART;TZID=America/Chicago:20180621T090000
DTEND;TZID=America/Chicago:20180621T120000
LOCATION:
SUMMARY:Summer Camps
END:VEVENT
END:VCALENDAR
