BEGIN:VCALENDAR
VERSION:2.0
PRODID:-//aldridgegardens.com//NONSGML kigkonsult.se iCalcreator 2.30.10//
CALSCALE:GREGORIAN
METHOD:PUBLISH
UID:90caae36-ff15-427b-905b-d66d27bc9001
X-WR-CALDESC:June 25 - 29\nEntering Grades 5k – 3\n\nUnleash your creativit
 y. Make things. Something BIG\, colorful\, and wild!\n\nInstructor: Leigh 
 Smith
X-WR-RELCALID:ce26a56d9c187da4947681792f4cc52c
X-WR-TIMEZONE:America/Chicago
BEGIN:VTIMEZONE
TZID:America/Chicago
BEGIN:STANDARD
TZNAME:CST
DTSTART:20171105T020000
TZOFFSETFROM:-0500
TZOFFSETTO:-0600
RDATE:20181104T020000
RDATE:20191103T020000
END:STANDARD
BEGIN:DAYLIGHT
TZNAME:CDT
DTSTART:20180311T020000
TZOFFSETFROM:-0600
TZOFFSETTO:-0500
RDATE:20190310T020000
END:DAYLIGHT
END:VTIMEZONE
BEGIN:VEVENT
UID:4d073049-b1c0-4a8a-bb2d-882cea982489
DTSTAMP:20260421T032529Z
DESCRIPTION:June 25 - 29\nEntering Grades 5k – 3\n\nUnleash your creativity
 . Make things. Something BIG\, colorful\, and wild!\n\nInstructor: Leigh S
 mith
DTSTART;TZID=America/Chicago:20180625T090000
DTEND;TZID=America/Chicago:20180625T120000
LOCATION:
SUMMARY:Summer Camp: Cool Art Grades 5k-3rd
END:VEVENT
END:VCALENDAR
