BEGIN:VCALENDAR
VERSION:2.0
PRODID:-//aldridgegardens.com//NONSGML kigkonsult.se iCalcreator 2.30.10//
CALSCALE:GREGORIAN
METHOD:PUBLISH
UID:32987b2b-357d-4eb3-acdb-f1adb4aa87a6
X-WR-CALDESC:June 25 - 29\nEntering Grades 5k – 3\n\nBuild and create with 
 nature! \n\nInstructor: Mandy Cramer
X-WR-RELCALID:441c681295394a03112e1b1ab8270539
X-WR-TIMEZONE:America/Chicago
BEGIN:VTIMEZONE
TZID:America/Chicago
BEGIN:STANDARD
TZNAME:CST
DTSTART:20171105T020000
TZOFFSETFROM:-0500
TZOFFSETTO:-0600
RDATE:20181104T020000
RDATE:20191103T020000
END:STANDARD
BEGIN:DAYLIGHT
TZNAME:CDT
DTSTART:20180311T020000
TZOFFSETFROM:-0600
TZOFFSETTO:-0500
RDATE:20190310T020000
END:DAYLIGHT
END:VTIMEZONE
BEGIN:VEVENT
UID:7853be0d-fa7d-493e-856e-4be56b2d2fb1
DTSTAMP:20260421T032207Z
DESCRIPTION:June 25 - 29\nEntering Grades 5k – 3\n\nBuild and create with n
 ature! \n\nInstructor: Mandy Cramer
DTSTART;TZID=America/Chicago:20180625T090000
DTEND;TZID=America/Chicago:20180625T120000
LOCATION:
SUMMARY:Summer Camp: Engineering and Construction Grades 5k-3rd
END:VEVENT
END:VCALENDAR
