BEGIN:VCALENDAR
VERSION:2.0
PRODID:-//aldridgegardens.com//NONSGML kigkonsult.se iCalcreator 2.30.10//
CALSCALE:GREGORIAN
METHOD:PUBLISH
UID:b9436dfc-dd3f-4862-8c9d-7c65ba871011
X-WR-CALDESC:June 25 - 29\nEntering Grades 3rd – 5th\n\nBecome the writer\,
  director\, camera-operator\, and editor of your own video!\n\nInstructor:
  Julie Altmark
X-WR-RELCALID:4d90e56ad2b00cccb8485653c9302036
X-WR-TIMEZONE:America/Chicago
BEGIN:VTIMEZONE
TZID:America/Chicago
BEGIN:STANDARD
TZNAME:CST
DTSTART:20171105T020000
TZOFFSETFROM:-0500
TZOFFSETTO:-0600
RDATE:20181104T020000
RDATE:20191103T020000
END:STANDARD
BEGIN:DAYLIGHT
TZNAME:CDT
DTSTART:20180311T020000
TZOFFSETFROM:-0600
TZOFFSETTO:-0500
RDATE:20190310T020000
END:DAYLIGHT
END:VTIMEZONE
BEGIN:VEVENT
UID:7318e4f8-4dec-43ca-9063-66c27eb87d42
DTSTAMP:20260421T032442Z
DESCRIPTION:June 25 - 29\nEntering Grades 3rd – 5th\n\nBecome the writer\, 
 director\, camera-operator\, and editor of your own video!\n\nInstructor: 
 Julie Altmark
DTSTART;TZID=America/Chicago:20180625T090000
DTEND;TZID=America/Chicago:20180625T120000
LOCATION:
SUMMARY:Summer Camp: Stop Action Animation Grades 3rd-5th
END:VEVENT
END:VCALENDAR
