BEGIN:VCALENDAR
VERSION:2.0
PRODID:-//aldridgegardens.com//NONSGML kigkonsult.se iCalcreator 2.30.10//
CALSCALE:GREGORIAN
METHOD:PUBLISH
UID:248425c5-6fe1-48de-a7ba-ae8fd3d593fc
X-WR-CALDESC:<b>Summer Camps for the week of June 25 - 29</b>\n\nAmerican G
 irl Dolls (5K-3) \nBring your doll for tea parties and group activities. M
 ake crafts and accessories for you and your doll. (Includes My Life or Our
  Generation Dolls) Instructor: Aleshia Paige\n\nCool Art (5K-3) \nUnleash 
 your creativity. Make things. Something BIG\, colorful\, and wild! Instruc
 tor: Elizabeth Lochamy\n\nEngineering & Construction (5K-3) \nBuild and cr
 eate with nature! Instructor: Mandy Cramer\n\nStop Action Animation (3-5) 
 \nBecome the Writer\, Director\, Camera-operator\, and Editor of your own 
 video! Instructor: Julie Altmark
X-WR-RELCALID:561d73e38684a215d70019904bddb1c5
X-WR-TIMEZONE:America/Chicago
BEGIN:VTIMEZONE
TZID:America/Chicago
BEGIN:STANDARD
TZNAME:CST
DTSTART:20171105T020000
TZOFFSETFROM:-0500
TZOFFSETTO:-0600
RDATE:20181104T020000
RDATE:20191103T020000
END:STANDARD
BEGIN:DAYLIGHT
TZNAME:CDT
DTSTART:20180311T020000
TZOFFSETFROM:-0600
TZOFFSETTO:-0500
RDATE:20190310T020000
END:DAYLIGHT
END:VTIMEZONE
BEGIN:VEVENT
UID:9babc7cf-1b12-49ad-8a4a-8acf0b601c9d
DTSTAMP:20260421T032443Z
DESCRIPTION:<b>Summer Camps for the week of June 25 - 29</b>\n\nAmerican Gi
 rl Dolls (5K-3) \nBring your doll for tea parties and group activities. Ma
 ke crafts and accessories for you and your doll. (Includes My Life or Our 
 Generation Dolls) Instructor: Aleshia Paige\n\nCool Art (5K-3) \nUnleash y
 our creativity. Make things. Something BIG\, colorful\, and wild! Instruct
 or: Elizabeth Lochamy\n\nEngineering & Construction (5K-3) \nBuild and cre
 ate with nature! Instructor: Mandy Cramer\n\nStop Action Animation (3-5) 
 \nBecome the Writer\, Director\, Camera-operator\, and Editor of your own 
 video! Instructor: Julie Altmark
DTSTART;TZID=America/Chicago:20180627T090000
DTEND;TZID=America/Chicago:20180627T120000
LOCATION:
SUMMARY:Summer Camps
END:VEVENT
END:VCALENDAR
