BEGIN:VCALENDAR
VERSION:2.0
PRODID:-//aldridgegardens.com//NONSGML kigkonsult.se iCalcreator 2.30.10//
CALSCALE:GREGORIAN
METHOD:PUBLISH
UID:7ed52ce0-87f6-4c04-bcfb-1c4ffbae21b9
X-WR-CALDESC:<b>Barrels of Fun...and Whiskey!</b>\n\nMore spaces for this e
 vent were added on June 25th.\n\nGet ready to learn a lot about whiskey\, 
 from bartender and author Clair McLafferty\, in the Pavilion at Aldridge G
 ardens from 6 to 7:30 p.m. Must be 21 or older to participate. Cost is $20
  for Aldridge Gardens members\, $25 for non-members\, and includes 2 adult
  beverages and light refreshments. \n\nIn addition\, Clair's 'Classic and 
 Craft Cocktail Recipe Book' will also be available for purchase and signin
 g.
X-WR-RELCALID:7fb4236ba6b67a3c97cae76c010b9ba9
X-WR-TIMEZONE:America/Chicago
BEGIN:VTIMEZONE
TZID:America/Chicago
BEGIN:STANDARD
TZNAME:CST
DTSTART:20171105T020000
TZOFFSETFROM:-0500
TZOFFSETTO:-0600
RDATE:20181104T020000
RDATE:20191103T020000
END:STANDARD
BEGIN:DAYLIGHT
TZNAME:CDT
DTSTART:20180311T020000
TZOFFSETFROM:-0600
TZOFFSETTO:-0500
RDATE:20190310T020000
END:DAYLIGHT
END:VTIMEZONE
BEGIN:VEVENT
UID:7dedb1f9-702c-4151-9ed3-be2acf0cb16e
DTSTAMP:20260421T013609Z
DESCRIPTION:<b>Barrels of Fun...and Whiskey!</b>\n\nMore spaces for this ev
 ent were added on June 25th.\n\nGet ready to learn a lot about whiskey\, f
 rom bartender and author Clair McLafferty\, in the Pavilion at Aldridge Ga
 rdens from 6 to 7:30 p.m. Must be 21 or older to participate. Cost is $20 
 for Aldridge Gardens members\, $25 for non-members\, and includes 2 adult 
 beverages and light refreshments. \n\nIn addition\, Clair's 'Classic and C
 raft Cocktail Recipe Book' will also be available for purchase and signing
 .
DTSTART;TZID=America/Chicago:20180726T180000
DTEND;TZID=America/Chicago:20180726T193000
LOCATION:The Pavilion at Aldridge Gardens
SUMMARY:Whiskey Workshop
END:VEVENT
END:VCALENDAR
