BEGIN:VCALENDAR
VERSION:2.0
PRODID:-//aldridgegardens.com//NONSGML kigkonsult.se iCalcreator 2.30.10//
CALSCALE:GREGORIAN
METHOD:PUBLISH
UID:cff6191c-5036-4eb8-9481-95cef19ccddc
X-WR-CALDESC:<b>This event is now SOLD OUT</b>\n\nWear your favorite hat an
 d join us for the fun!\n\nParents and grandparents\, bring your child/gran
 dchild to our Mad Hatter’s Fairy Garden Tea Party on July 31st! Decorate a
 nd plant a small fairy garden together. Eat finger sandwiches with tea and
  cookies while enjoying an Alice in Aldridge Gardens theme.  Everyone is w
 elcome to wear a hat and spend some fun time together before school starts
  again!\n\nCost for Aldridge Gardens members is two for $25\, while non-me
 mbers is two for $30.\n(Covers one parent/grandparent with one elementary-
 aged child)\n\n<b>This event is now SOLD OUT</b>\n
X-WR-RELCALID:8951d6b73998512d8cde3008bbc4dbcd
X-WR-TIMEZONE:America/Chicago
BEGIN:VTIMEZONE
TZID:America/Chicago
BEGIN:STANDARD
TZNAME:CST
DTSTART:20171105T020000
TZOFFSETFROM:-0500
TZOFFSETTO:-0600
RDATE:20181104T020000
RDATE:20191103T020000
END:STANDARD
BEGIN:DAYLIGHT
TZNAME:CDT
DTSTART:20180311T020000
TZOFFSETFROM:-0600
TZOFFSETTO:-0500
RDATE:20190310T020000
END:DAYLIGHT
END:VTIMEZONE
BEGIN:VEVENT
UID:f89fec5b-b19d-4402-ae2b-3c31ad0a0a6b
DTSTAMP:20260421T014437Z
DESCRIPTION:<b>This event is now SOLD OUT</b>\n\nWear your favorite hat and
  join us for the fun!\n\nParents and grandparents\, bring your child/grand
 child to our Mad Hatter’s Fairy Garden Tea Party on July 31st! Decorate an
 d plant a small fairy garden together. Eat finger sandwiches with tea and 
 cookies while enjoying an Alice in Aldridge Gardens theme.  Everyone is we
 lcome to wear a hat and spend some fun time together before school starts 
 again!\n\nCost for Aldridge Gardens members is two for $25\, while non-mem
 bers is two for $30.\n(Covers one parent/grandparent with one elementary-a
 ged child)\n\n<b>This event is now SOLD OUT</b>\n
DTSTART;TZID=America/Chicago:20180731T110000
DTEND;TZID=America/Chicago:20180731T130000
LOCATION:The House and Patio at Aldridge Gardens
SUMMARY:Mad Hatter’s Fairy Garden Tea Party
END:VEVENT
END:VCALENDAR
