BEGIN:VCALENDAR
VERSION:2.0
PRODID:-//aldridgegardens.com//NONSGML kigkonsult.se iCalcreator 2.30.10//
CALSCALE:GREGORIAN
METHOD:PUBLISH
UID:f597a31f-ddac-4e06-8846-56644208672a
X-WR-CALDESC:<b>This event is now SOLD OUT!</b>\n\nTaste and learn how to m
 ake Injera (Ethiopian flatbread)\, as well as an appetizer\, an entree\, a
  side and a dessert. Even tea! This will be led by Gini Mohammad from Red 
 Sea Ethiopian and Mediterranean Restaurant in the Aldridge Gardens house f
 rom 6 to 8 p.m. Cost is $30 for Aldridge Gardens members and $35 nonmember
 s. Space is limited.
X-WR-RELCALID:2f79d2c1297af41ba8cace827435ab73
X-WR-TIMEZONE:America/Chicago
BEGIN:VTIMEZONE
TZID:America/Chicago
BEGIN:STANDARD
TZNAME:CST
DTSTART:20171105T020000
TZOFFSETFROM:-0500
TZOFFSETTO:-0600
RDATE:20181104T020000
RDATE:20191103T020000
END:STANDARD
BEGIN:DAYLIGHT
TZNAME:CDT
DTSTART:20180311T020000
TZOFFSETFROM:-0600
TZOFFSETTO:-0500
RDATE:20190310T020000
END:DAYLIGHT
END:VTIMEZONE
BEGIN:VEVENT
UID:b3a00485-887b-4cdb-92bc-bb7b196558b3
DTSTAMP:20260420T235841Z
DESCRIPTION:<b>This event is now SOLD OUT!</b>\n\nTaste and learn how to ma
 ke Injera (Ethiopian flatbread)\, as well as an appetizer\, an entree\, a 
 side and a dessert. Even tea! This will be led by Gini Mohammad from Red S
 ea Ethiopian and Mediterranean Restaurant in the Aldridge Gardens house fr
 om 6 to 8 p.m. Cost is $30 for Aldridge Gardens members and $35 nonmembers
 . Space is limited.
DTSTART;TZID=America/Chicago:20180802T180000
DTEND;TZID=America/Chicago:20180802T200000
LOCATION:The House at Aldridge Gardens
SUMMARY:Enchanting Ethiopian Eating
END:VEVENT
END:VCALENDAR
