BEGIN:VCALENDAR
VERSION:2.0
PRODID:-//aldridgegardens.com//NONSGML kigkonsult.se iCalcreator 2.30.10//
CALSCALE:GREGORIAN
METHOD:PUBLISH
UID:3152222c-349b-4017-9fd0-4c81cfb5dad6
X-WR-CALDESC:Presently the Executive Producer/Artistic Director Emeritus of
  Theatre Tuscaloosa\, Mr. Looney\, in 2003\, returned to his lifelong pass
 ion for graphic art and began a “new” career as a studio artist. Working p
 rimarily in acrylics and oils\, Mr. Looney has exhibited extensively in th
 e area and his work hangs in galleries and homes throughout the state and 
 south. At present\, his work is on display at the Callen Gallery\, New Orl
 eans and Harrison Gallery in Tuscaloosa. In 2003\, he spent an extended ti
 me in Vence\, France painting with the internationally acclaimed master\, 
 Nall. \n\nLearn more about his extensive background in theatre and see add
 itional samples of his work in our <a href='http://aldridgegardens.com/art
 /in_the_gallery/art-gallery.html'>online gallery</a>. \n\nJoin us on Monda
 y the 13th to hear Paul speak directly about his exhibit at Aldridge Garde
 ns. \n
X-WR-RELCALID:c793672416bb7371088232de499c8617
X-WR-TIMEZONE:America/Chicago
BEGIN:VTIMEZONE
TZID:America/Chicago
BEGIN:STANDARD
TZNAME:CST
DTSTART:20171105T020000
TZOFFSETFROM:-0500
TZOFFSETTO:-0600
RDATE:20181104T020000
RDATE:20191103T020000
END:STANDARD
BEGIN:DAYLIGHT
TZNAME:CDT
DTSTART:20180311T020000
TZOFFSETFROM:-0600
TZOFFSETTO:-0500
RDATE:20190310T020000
END:DAYLIGHT
END:VTIMEZONE
BEGIN:VEVENT
UID:ae23cac3-3c7e-4d16-a252-4cbb12c7cf50
DTSTAMP:20260421T000034Z
DESCRIPTION:Presently the Executive Producer/Artistic Director Emeritus of 
 Theatre Tuscaloosa\, Mr. Looney\, in 2003\, returned to his lifelong passi
 on for graphic art and began a “new” career as a studio artist. Working pr
 imarily in acrylics and oils\, Mr. Looney has exhibited extensively in the
  area and his work hangs in galleries and homes throughout the state and s
 outh. At present\, his work is on display at the Callen Gallery\, New Orle
 ans and Harrison Gallery in Tuscaloosa. In 2003\, he spent an extended tim
 e in Vence\, France painting with the internationally acclaimed master\, N
 all. \n\nLearn more about his extensive background in theatre and see addi
 tional samples of his work in our <a href='http://aldridgegardens.com/art/
 in_the_gallery/art-gallery.html'>online gallery</a>. \n\nJoin us on Monday
  the 13th to hear Paul speak directly about his exhibit at Aldridge Garden
 s. \n
DTSTART;TZID=America/Chicago:20180813T180000
DTEND;TZID=America/Chicago:20180813T190000
LOCATION:Eddie and Kay Aldridge Arts and Historical Collections Museum
SUMMARY:Meet the Artist - Paul Looney
END:VEVENT
END:VCALENDAR
