BEGIN:VCALENDAR
VERSION:2.0
PRODID:-//aldridgegardens.com//NONSGML kigkonsult.se iCalcreator 2.30.10//
CALSCALE:GREGORIAN
METHOD:PUBLISH
UID:4eb44a44-2275-40cc-94c2-41f400be8206
X-WR-CALDESC:Freedom from Addiction Coalition Community Breakfast\n\n<b>Spe
 aker:</b>\nDr. Brian Brocato\nMember – Alabama Department of Public Health
 \, Opioid Misuse in Women/Neonatal Abstinence Syndrome (OMW/NAT) Task forc
 e\nMember – Advisory Council Class of 2019\, Alabama Section\, American Co
 llege of Obstetricians and Gynecologists\n\nYou are invited to a free brea
 kfast to bring more awareness in our communities about the current reality
  of the addiction epidemic. The focus will be on what we can do individual
 ly and together to make progress in the battle. We hope you can join us!\n
 \n<b>Hosted by:</b>\nMayor Frank Brocato (Hoover)\, Mayor Ashley Curry (Ve
 stavia Hills)\, Mayor Stewart Welch (Mountain Brook)\, and Mayor Scott McB
 rayer (Homewood)\n\n<b>Brought to you by:</b>\nAddiction Prevention Coalit
 ion - apcbham.org - 205.874.8498\nAlabama Teen Challenge - alatc.org - 205
 .763.0909\nand \nWallace\, Jordan\, Ratliff & Brandt\, LLC. - wallacejorda
 n.com - 205.870.0555\n
X-WR-RELCALID:285bd9cf0b6fae40c9175a6a7fe9e1e3
X-WR-TIMEZONE:America/Chicago
BEGIN:VTIMEZONE
TZID:America/Chicago
BEGIN:STANDARD
TZNAME:CST
DTSTART:20171105T020000
TZOFFSETFROM:-0500
TZOFFSETTO:-0600
RDATE:20181104T020000
RDATE:20191103T020000
END:STANDARD
BEGIN:DAYLIGHT
TZNAME:CDT
DTSTART:20180311T020000
TZOFFSETFROM:-0600
TZOFFSETTO:-0500
RDATE:20190310T020000
RDATE:20200308T020000
END:DAYLIGHT
END:VTIMEZONE
BEGIN:VEVENT
UID:3a56e403-4de4-4559-ac47-390a61175841
DTSTAMP:20260420T204201Z
DESCRIPTION:Freedom from Addiction Coalition Community Breakfast\n\n<b>Spea
 ker:</b>\nDr. Brian Brocato\nMember – Alabama Department of Public Health\
 , Opioid Misuse in Women/Neonatal Abstinence Syndrome (OMW/NAT) Task force
 \nMember – Advisory Council Class of 2019\, Alabama Section\, American Col
 lege of Obstetricians and Gynecologists\n\nYou are invited to a free break
 fast to bring more awareness in our communities about the current reality 
 of the addiction epidemic. The focus will be on what we can do individuall
 y and together to make progress in the battle. We hope you can join us!\n
 \n<b>Hosted by:</b>\nMayor Frank Brocato (Hoover)\, Mayor Ashley Curry (Ve
 stavia Hills)\, Mayor Stewart Welch (Mountain Brook)\, and Mayor Scott McB
 rayer (Homewood)\n\n<b>Brought to you by:</b>\nAddiction Prevention Coalit
 ion - apcbham.org - 205.874.8498\nAlabama Teen Challenge - alatc.org - 205
 .763.0909\nand \nWallace\, Jordan\, Ratliff & Brandt\, LLC. - wallacejorda
 n.com - 205.870.0555\n
DTSTART;TZID=America/Chicago:20181009T073000
DTEND;TZID=America/Chicago:20181009T090000
LOCATION:Hoover Metropolitan Stadium - Michael Jordan Room
SUMMARY:Freedom from Addiction Coalition Community Breakfast
END:VEVENT
END:VCALENDAR
