BEGIN:VCALENDAR
VERSION:2.0
PRODID:-//aldridgegardens.com//NONSGML kigkonsult.se iCalcreator 2.30.10//
CALSCALE:GREGORIAN
METHOD:PUBLISH
UID:5c4836cd-7ad7-42c8-8e4f-d70ac828a541
X-WR-CALDESC:Join us on Tuesday the 9th to be one of the first to see this 
 exhibit at Aldridge Gardens. \n\n'Alabama\, Then and Now' is a commemorati
 ve and educational art exhibit of 30 original paintings in honor of Alabam
 a’s Bicentennial! All paintings were created by members of the Alabama Ple
 in Air Artists (APAA) who gather monthly around the state\, to paint en pl
 ein air (in the 'open air') outdoors\, from life. The paintings depict lan
 dmarks and regions of Alabama where these artists live or have traveled an
 d painted from life. Subjects include bridges and barns\; gins and mills\;
  the natural beauty of Alabama\; industry\; architecture\; sports\; and po
 pular culture.\n\nFrom October 2018 - November 2019\, this juried exhibit 
 will tour through Hoover\; Fort Payne\; Huntsville\; Mobile\; Tuscaloosa\;
  Auburn\; Athens\; Pike Road\; and the State Capitol in Montgomery\, with 
 most venues hosting Opening Receptions. Many paintings will be for sale. E
 ntry is free and open to the public. \n\nThis exhibit is officially endors
 ed by the Alabama Bicentennial Commission.\n\nThe tour kicks off with an <
 b>Opening Reception on Tuesday\, October 9th 6-7 p.m. at Aldridge Gardens.
  </b>\n\nCome meet the artists and learn more about the stories behind the
  paintings!\n\nLook out for a special feature of the 'Alabama Then and Now
 ' Exhibition in the upcoming issue of Hoover's Magazine.\n
X-WR-RELCALID:dd936e71998848f6ae8b7522b208f9d9
X-WR-TIMEZONE:America/Chicago
BEGIN:VTIMEZONE
TZID:America/Chicago
BEGIN:STANDARD
TZNAME:CST
DTSTART:20171105T020000
TZOFFSETFROM:-0500
TZOFFSETTO:-0600
RDATE:20181104T020000
RDATE:20191103T020000
END:STANDARD
BEGIN:DAYLIGHT
TZNAME:CDT
DTSTART:20180311T020000
TZOFFSETFROM:-0600
TZOFFSETTO:-0500
RDATE:20190310T020000
RDATE:20200308T020000
END:DAYLIGHT
END:VTIMEZONE
BEGIN:VEVENT
UID:f98e2ab7-ec72-4204-9716-d9986f119c9e
DTSTAMP:20260420T210335Z
DESCRIPTION:Join us on Tuesday the 9th to be one of the first to see this e
 xhibit at Aldridge Gardens. \n\n'Alabama\, Then and Now' is a commemorativ
 e and educational art exhibit of 30 original paintings in honor of Alabama
 ’s Bicentennial! All paintings were created by members of the Alabama Plei
 n Air Artists (APAA) who gather monthly around the state\, to paint en ple
 in air (in the 'open air') outdoors\, from life. The paintings depict land
 marks and regions of Alabama where these artists live or have traveled and
  painted from life. Subjects include bridges and barns\; gins and mills\; 
 the natural beauty of Alabama\; industry\; architecture\; sports\; and pop
 ular culture.\n\nFrom October 2018 - November 2019\, this juried exhibit w
 ill tour through Hoover\; Fort Payne\; Huntsville\; Mobile\; Tuscaloosa\; 
 Auburn\; Athens\; Pike Road\; and the State Capitol in Montgomery\, with m
 ost venues hosting Opening Receptions. Many paintings will be for sale. En
 try is free and open to the public. \n\nThis exhibit is officially endorse
 d by the Alabama Bicentennial Commission.\n\nThe tour kicks off with an <b
 >Opening Reception on Tuesday\, October 9th 6-7 p.m. at Aldridge Gardens. 
 </b>\n\nCome meet the artists and learn more about the stories behind the 
 paintings!\n\nLook out for a special feature of the 'Alabama Then and Now'
  Exhibition in the upcoming issue of Hoover's Magazine.\n
DTSTART;TZID=America/Chicago:20181009T180000
DTEND;TZID=America/Chicago:20181009T190000
LOCATION:Eddie and Kay Aldridge Arts and Historical Collections Museum
SUMMARY:Meet the Artists - Plein Air Artists
END:VEVENT
END:VCALENDAR
