BEGIN:VCALENDAR
VERSION:2.0
PRODID:-//aldridgegardens.com//NONSGML kigkonsult.se iCalcreator 2.30.10//
CALSCALE:GREGORIAN
METHOD:PUBLISH
UID:1e9c51fd-7e4f-4552-84f0-7af9394d679f
X-WR-CALDESC:Propagator level members will enjoy their monthly wine recepti
 on while mixing and mingling with the artists. \n\n'Alabama\, Then and Now
 ' is a commemorative and educational art exhibit of 30 original paintings 
 in honor of Alabama’s Bicentennial! All paintings were created by members 
 of the Alabama Plein Air Artists (APAA) who gather monthly around the stat
 e\, to paint en plein air (in the 'open air') outdoors\, from life. The pa
 intings depict landmarks and regions of Alabama where these artists live o
 r have traveled and painted from life. Subjects include bridges and barns\
 ; gins and mills\; the natural beauty of Alabama\; industry\; architecture
 \; sports\; and popular culture.\n\nFrom October 2018 - November 2019\, th
 is juried exhibit will tour through Hoover\; Fort Payne\; Huntsville\; Mob
 ile\; Tuscaloosa\; Auburn\; Athens\; Pike Road\; and the State Capitol in 
 Montgomery\, with most venues hosting Opening Receptions. Many paintings w
 ill be for sale. Entry is free and open to the public. \n\nThis exhibit is
  officially endorsed by the Alabama Bicentennial Commission.\n\nThe tour k
 icks off with an <b>Opening Reception on Tuesday\, October 9th 6-7 p.m. at
  Aldridge Gardens. </b>\n\nCome meet the artists and learn more about the 
 stories behind the paintings!\n\nLook out for a special feature of the 'Al
 abama Then and Now' Exhibition in the upcoming issue of Hoover's Magazine.
 \n\n<b>This propagator member event will roll into the general artist rece
 ption beginning at 6 p.m. </b>\n
X-WR-RELCALID:023692e330036691d06c9c1eea869cb5
X-WR-TIMEZONE:America/Chicago
BEGIN:VTIMEZONE
TZID:America/Chicago
BEGIN:STANDARD
TZNAME:CST
DTSTART:20171105T020000
TZOFFSETFROM:-0500
TZOFFSETTO:-0600
RDATE:20181104T020000
RDATE:20191103T020000
END:STANDARD
BEGIN:DAYLIGHT
TZNAME:CDT
DTSTART:20180311T020000
TZOFFSETFROM:-0600
TZOFFSETTO:-0500
RDATE:20190310T020000
RDATE:20200308T020000
END:DAYLIGHT
END:VTIMEZONE
BEGIN:VEVENT
UID:c205aa37-d8fb-49aa-ba5d-5cf069773528
DTSTAMP:20260420T204114Z
DESCRIPTION:Propagator level members will enjoy their monthly wine receptio
 n while mixing and mingling with the artists. \n\n'Alabama\, Then and Now'
  is a commemorative and educational art exhibit of 30 original paintings i
 n honor of Alabama’s Bicentennial! All paintings were created by members o
 f the Alabama Plein Air Artists (APAA) who gather monthly around the state
 \, to paint en plein air (in the 'open air') outdoors\, from life. The pai
 ntings depict landmarks and regions of Alabama where these artists live or
  have traveled and painted from life. Subjects include bridges and barns\;
  gins and mills\; the natural beauty of Alabama\; industry\; architecture\
 ; sports\; and popular culture.\n\nFrom October 2018 - November 2019\, thi
 s juried exhibit will tour through Hoover\; Fort Payne\; Huntsville\; Mobi
 le\; Tuscaloosa\; Auburn\; Athens\; Pike Road\; and the State Capitol in M
 ontgomery\, with most venues hosting Opening Receptions. Many paintings wi
 ll be for sale. Entry is free and open to the public. \n\nThis exhibit is 
 officially endorsed by the Alabama Bicentennial Commission.\n\nThe tour ki
 cks off with an <b>Opening Reception on Tuesday\, October 9th 6-7 p.m. at 
 Aldridge Gardens. </b>\n\nCome meet the artists and learn more about the s
 tories behind the paintings!\n\nLook out for a special feature of the 'Ala
 bama Then and Now' Exhibition in the upcoming issue of Hoover's Magazine.
 \n\n<b>This propagator member event will roll into the general artist rece
 ption beginning at 6 p.m. </b>\n
DTSTART;TZID=America/Chicago:20181009T170000
DTEND;TZID=America/Chicago:20181009T180000
LOCATION:Eddie and Kay Aldridge Arts and Historical Collections Museum
SUMMARY:Propagator Wine Reception - Plein Air Artists
END:VEVENT
END:VCALENDAR
