BEGIN:VCALENDAR
VERSION:2.0
PRODID:-//aldridgegardens.com//NONSGML kigkonsult.se iCalcreator 2.30.10//
CALSCALE:GREGORIAN
METHOD:PUBLISH
UID:2b6057d2-5943-4da7-a647-53030b1ea787
X-WR-CALDESC:This is not a scary event. Come and make arachnophobia a thing
  of the past! Learn about the fascinating world of spiders with Dr. Drew H
 ataway from the Biological and Environment Sciences Department at Samford 
 University. \n\nDr. Hataway will discuss his experiences with spiders\, bo
 th in the wild and in the laboratory. He'll even bring some interesting ar
 achnids for us to view up close. Learn how to distinguish dangerous from n
 on-dangerous spiders. Plus\, bring your flashlights for a fun-filled field
  trip after class in search of harmless wolf spiders on the grounds of Ald
 ridge Gardens. Their eyes glow in the dark! \n\nThis event is $15 for Aldr
 idge Gardens members and $20 for non-members.\n<b>Each paying guest is wel
 come to bring a student 12 and under for free!</b>\n
X-WR-RELCALID:64e507ac318be365cd5a90e19b049fa1
X-WR-TIMEZONE:America/Chicago
BEGIN:VTIMEZONE
TZID:America/Chicago
BEGIN:STANDARD
TZNAME:CST
DTSTART:20171105T020000
TZOFFSETFROM:-0500
TZOFFSETTO:-0600
RDATE:20181104T020000
RDATE:20191103T020000
END:STANDARD
BEGIN:DAYLIGHT
TZNAME:CDT
DTSTART:20180311T020000
TZOFFSETFROM:-0600
TZOFFSETTO:-0500
RDATE:20190310T020000
RDATE:20200308T020000
END:DAYLIGHT
END:VTIMEZONE
BEGIN:VEVENT
UID:96581db5-5740-4a96-999b-68b38367ea04
DTSTAMP:20260420T205747Z
DESCRIPTION:This is not a scary event. Come and make arachnophobia a thing 
 of the past! Learn about the fascinating world of spiders with Dr. Drew Ha
 taway from the Biological and Environment Sciences Department at Samford U
 niversity. \n\nDr. Hataway will discuss his experiences with spiders\, bot
 h in the wild and in the laboratory. He'll even bring some interesting ara
 chnids for us to view up close. Learn how to distinguish dangerous from no
 n-dangerous spiders. Plus\, bring your flashlights for a fun-filled field 
 trip after class in search of harmless wolf spiders on the grounds of Aldr
 idge Gardens. Their eyes glow in the dark! \n\nThis event is $15 for Aldri
 dge Gardens members and $20 for non-members.\n<b>Each paying guest is welc
 ome to bring a student 12 and under for free!</b>\n
DTSTART;TZID=America/Chicago:20181016T180000
DTEND;TZID=America/Chicago:20181016T200000
LOCATION:
SUMMARY:Creepy Crawly Spiders of Alabama
END:VEVENT
END:VCALENDAR
