BEGIN:VCALENDAR
VERSION:2.0
PRODID:-//aldridgegardens.com//NONSGML kigkonsult.se iCalcreator 2.30.10//
CALSCALE:GREGORIAN
METHOD:PUBLISH
UID:8dd34229-b43d-41b2-b29d-6fdb30f45c12
X-WR-CALDESC:GARDENING BOOKS ABOUT HYDRANGEAS\n\n<b>Speaker:</b>\nHope Long
 \, Director of the Public Library branch located at the Birmingham Botanic
 al Gardens\n\nThe program for the Alabama Hydrangea Society meeting will b
 e presented by Hope Long.  Hope will review many of the gardening books an
 d Hydrangeas.  We will learn which books we might want in our own personal
  collection as well as learn about some texts that might make a great refe
 rence book. Some books will inspire us with glorious photos and others wil
 l prove an important source of practical information on hydrangea cultivat
 ion and pruning. Visitors are welcome to attend and the program is free.\n
 \nALABAMA HYDRANGEA SOCIETY\nInterested in learning more about Hydrangeas 
 and other related gardening topics? We invite you to visit and join the Al
 abama Hydrangea Society. Meetings take place five times a year at Aldridge
  Gardens (3530 Lorna Road\, Hoover) at 1:00 p.m. on the 4th Wednesday of t
 hese months: January\, April\, June\, August\, and October. Alabama Hydran
 gea Society membership is $15 per year for an individual or $25 per couple
 . Visitors are always welcome to attend. Please join us.\n\nAldridge Garde
 ns is the perfect setting to inspire one’s learning more about the various
  types of Hydrangeas.
X-WR-RELCALID:b8dea12670c7c4986559faa57c35c813
X-WR-TIMEZONE:America/Chicago
BEGIN:VTIMEZONE
TZID:America/Chicago
BEGIN:STANDARD
TZNAME:CST
DTSTART:20171105T020000
TZOFFSETFROM:-0500
TZOFFSETTO:-0600
RDATE:20181104T020000
RDATE:20191103T020000
END:STANDARD
BEGIN:DAYLIGHT
TZNAME:CDT
DTSTART:20180311T020000
TZOFFSETFROM:-0600
TZOFFSETTO:-0500
RDATE:20190310T020000
RDATE:20200308T020000
END:DAYLIGHT
END:VTIMEZONE
BEGIN:VEVENT
UID:8008b90e-9482-4bdf-87a8-105bd178ccdb
DTSTAMP:20260420T205731Z
DESCRIPTION:GARDENING BOOKS ABOUT HYDRANGEAS\n\n<b>Speaker:</b>\nHope Long\
 , Director of the Public Library branch located at the Birmingham Botanica
 l Gardens\n\nThe program for the Alabama Hydrangea Society meeting will be
  presented by Hope Long.  Hope will review many of the gardening books and
  Hydrangeas.  We will learn which books we might want in our own personal 
 collection as well as learn about some texts that might make a great refer
 ence book. Some books will inspire us with glorious photos and others will
  prove an important source of practical information on hydrangea cultivati
 on and pruning. Visitors are welcome to attend and the program is free.\n
 \nALABAMA HYDRANGEA SOCIETY\nInterested in learning more about Hydrangeas 
 and other related gardening topics? We invite you to visit and join the Al
 abama Hydrangea Society. Meetings take place five times a year at Aldridge
  Gardens (3530 Lorna Road\, Hoover) at 1:00 p.m. on the 4th Wednesday of t
 hese months: January\, April\, June\, August\, and October. Alabama Hydran
 gea Society membership is $15 per year for an individual or $25 per couple
 . Visitors are always welcome to attend. Please join us.\n\nAldridge Garde
 ns is the perfect setting to inspire one’s learning more about the various
  types of Hydrangeas.
DTSTART;TZID=America/Chicago:20181024T130000
DTEND;TZID=America/Chicago:20181024T140000
LOCATION:The House at Aldridge Gardens
SUMMARY:Alabama Hydrangea Society Meeting
END:VEVENT
END:VCALENDAR
