BEGIN:VCALENDAR
VERSION:2.0
PRODID:-//aldridgegardens.com//NONSGML kigkonsult.se iCalcreator 2.30.10//
CALSCALE:GREGORIAN
METHOD:PUBLISH
UID:44bc5840-c460-45ac-8e55-d2d6762924e3
X-WR-CALDESC:Monday\, November 5th from 9:30 to 10 a.m.\, Aldridge Gardens 
 will celebrate the second anniversary of our Veterans Memorial Arbor. Loca
 ted on the back of our lake\, this arbor was dedicated two years ago in ho
 nor of Veterans Day. It can be accessed by using our woodland walking path
  and golf cart transportation will be available for those needing assistan
 ce.\n\nWe will have a small ceremony recognizing our nation's veterans alo
 ng with many veteran Aldridge Gardens members. A reception will be held in
  the Aldridge Gardens house afterwards. \n
X-WR-RELCALID:89cdae2445efb1f203292444ccb864d5
X-WR-TIMEZONE:America/Chicago
BEGIN:VTIMEZONE
TZID:America/Chicago
BEGIN:STANDARD
TZNAME:CST
DTSTART:20171105T020000
TZOFFSETFROM:-0500
TZOFFSETTO:-0600
RDATE:20181104T020000
RDATE:20191103T020000
END:STANDARD
BEGIN:DAYLIGHT
TZNAME:CDT
DTSTART:20180311T020000
TZOFFSETFROM:-0600
TZOFFSETTO:-0500
RDATE:20190310T020000
RDATE:20200308T020000
END:DAYLIGHT
END:VTIMEZONE
BEGIN:VEVENT
UID:daf6958b-53d6-491c-9eca-b116d43d34b6
DTSTAMP:20260420T185021Z
DESCRIPTION:Monday\, November 5th from 9:30 to 10 a.m.\, Aldridge Gardens w
 ill celebrate the second anniversary of our Veterans Memorial Arbor. Locat
 ed on the back of our lake\, this arbor was dedicated two years ago in hon
 or of Veterans Day. It can be accessed by using our woodland walking path 
 and golf cart transportation will be available for those needing assistanc
 e.\n\nWe will have a small ceremony recognizing our nation's veterans alon
 g with many veteran Aldridge Gardens members. A reception will be held in 
 the Aldridge Gardens house afterwards. \n
DTSTART;TZID=America/Chicago:20181105T093000
DTEND;TZID=America/Chicago:20181105T100000
LOCATION:Veterans Memorial Arbor at Aldridge Gardens
SUMMARY:Veterans Celebration
END:VEVENT
END:VCALENDAR
