BEGIN:VCALENDAR
VERSION:2.0
PRODID:-//aldridgegardens.com//NONSGML kigkonsult.se iCalcreator 2.30.10//
CALSCALE:GREGORIAN
METHOD:PUBLISH
UID:476a43a1-975d-4a11-bf60-9578422ed8f2
X-WR-CALDESC:<b>Salute to Veterans Ball</b>\nCelebration and Fundraising Di
 nner\n\n<b>Keynote Speaker</b>\nMedal of Honor recipient\nBennie Adkins\nC
 ommand Sergeant Major (Retired)\n\n“I am so excited that the Salute to Vet
 erans Celebration Ball is being held in Hoover at the new state-of-the-art
 \, Finley Center. Any time we honor our Veterans and what they mean to our
  community\, it’s a very special occasion.” - Mayor Frank V. Brocato\n\nCo
 st is $125 per person. \nReserved Sponsor Tables that seat 10 may also be 
 purchased. \n- Medal of Honor Level $ 5\,000\n- Gold Star Level $ 3\,500\n
 - Silver Star Level $ 2\,000\n- Bronze Star Level $ 1\,500\nContact Mark D
 avis for Sponsor Table / (205) 266-0632 / mkdavis@mindspring.com\n\n<b>Bro
 ught to you by:</b>\nHendrick Chevrolet Hoover\nTeam Corvette Alabama\nThe
  City of Hoover\nand \nVettes-4-Vets\n\nVettes-4-Vets is a 501(c)(3) non-p
 rofit foundation\, which provides a variety of support services to Veteran
 s and family in need. You will discover that donations go to help homeless
  Veterans\, and those in need of transportation\, education\, and personal
 \, physical\, and mental assistance. Vettes4Vets is unique in that funds a
 re raised through entertaining events centered around automotive enthusias
 ts\, with a focus on Corvettes and Muscle cars.
X-WR-RELCALID:f8e17804326a17e943aad27b5c3e694b
X-WR-TIMEZONE:America/Chicago
BEGIN:VTIMEZONE
TZID:America/Chicago
BEGIN:STANDARD
TZNAME:CST
DTSTART:20181104T020000
TZOFFSETFROM:-0500
TZOFFSETTO:-0600
RDATE:20191103T020000
END:STANDARD
BEGIN:DAYLIGHT
TZNAME:CDT
DTSTART:20180311T020000
TZOFFSETFROM:-0600
TZOFFSETTO:-0500
RDATE:20190310T020000
RDATE:20200308T020000
END:DAYLIGHT
END:VTIMEZONE
BEGIN:VEVENT
UID:28b293f2-accb-4b9f-9a91-0c0c5c20568a
DTSTAMP:20260420T190544Z
DESCRIPTION:<b>Salute to Veterans Ball</b>\nCelebration and Fundraising Din
 ner\n\n<b>Keynote Speaker</b>\nMedal of Honor recipient\nBennie Adkins\nCo
 mmand Sergeant Major (Retired)\n\n“I am so excited that the Salute to Vete
 rans Celebration Ball is being held in Hoover at the new state-of-the-art\
 , Finley Center. Any time we honor our Veterans and what they mean to our 
 community\, it’s a very special occasion.” - Mayor Frank V. Brocato\n\nCos
 t is $125 per person. \nReserved Sponsor Tables that seat 10 may also be p
 urchased. \n- Medal of Honor Level $ 5\,000\n- Gold Star Level $ 3\,500\n-
  Silver Star Level $ 2\,000\n- Bronze Star Level $ 1\,500\nContact Mark Da
 vis for Sponsor Table / (205) 266-0632 / mkdavis@mindspring.com\n\n<b>Brou
 ght to you by:</b>\nHendrick Chevrolet Hoover\nTeam Corvette Alabama\nThe 
 City of Hoover\nand \nVettes-4-Vets\n\nVettes-4-Vets is a 501(c)(3) non-pr
 ofit foundation\, which provides a variety of support services to Veterans
  and family in need. You will discover that donations go to help homeless 
 Veterans\, and those in need of transportation\, education\, and personal\
 , physical\, and mental assistance. Vettes4Vets is unique in that funds ar
 e raised through entertaining events centered around automotive enthusiast
 s\, with a focus on Corvettes and Muscle cars.
DTSTART;TZID=America/Chicago:20181108T171500
DTEND;TZID=America/Chicago:20181108T210000
LOCATION:Finley Center - Hoover\, AL
SUMMARY:Salute to Veterans Ball
END:VEVENT
END:VCALENDAR
