BEGIN:VCALENDAR
VERSION:2.0
PRODID:-//aldridgegardens.com//NONSGML kigkonsult.se iCalcreator 2.30.10//
CALSCALE:GREGORIAN
METHOD:PUBLISH
UID:dd192f80-feee-456d-be69-7a8b0305398d
X-WR-CALDESC:Here's your chance to learn how to make (and taste) authentic 
 Vietnamese dishes!  This is part of our Around the World with Food series 
 and will be led by Alan Song. It will be held in the Aldridge Gardens hous
 e on Thursday\, November 15th\, from 6 to 8 p.m. Cost is $30 for Aldridge 
 Gardens members and $35 nonmembers. Space is limited.
X-WR-RELCALID:2111d46ec7fc207988e0fcc7c8e63f32
X-WR-TIMEZONE:America/Chicago
BEGIN:VTIMEZONE
TZID:America/Chicago
BEGIN:STANDARD
TZNAME:CST
DTSTART:20181104T020000
TZOFFSETFROM:-0500
TZOFFSETTO:-0600
RDATE:20191103T020000
END:STANDARD
BEGIN:DAYLIGHT
TZNAME:CDT
DTSTART:20180311T020000
TZOFFSETFROM:-0600
TZOFFSETTO:-0500
RDATE:20190310T020000
RDATE:20200308T020000
END:DAYLIGHT
END:VTIMEZONE
BEGIN:VEVENT
UID:131bad58-e372-4c98-a410-0c7101dd53e2
DTSTAMP:20260420T190112Z
DESCRIPTION:Here's your chance to learn how to make (and taste) authentic V
 ietnamese dishes!  This is part of our Around the World with Food series a
 nd will be led by Alan Song. It will be held in the Aldridge Gardens house
  on Thursday\, November 15th\, from 6 to 8 p.m. Cost is $30 for Aldridge G
 ardens members and $35 nonmembers. Space is limited.
DTSTART;TZID=America/Chicago:20181115T180000
DTEND;TZID=America/Chicago:20181115T200000
LOCATION:The House at Aldridge Gardens
SUMMARY:Introduction to Vietnamese Cooking
END:VEVENT
END:VCALENDAR
