BEGIN:VCALENDAR
VERSION:2.0
PRODID:-//aldridgegardens.com//NONSGML kigkonsult.se iCalcreator 2.30.10//
CALSCALE:GREGORIAN
METHOD:PUBLISH
UID:fab7a33f-d292-429a-beed-b146fb389a1b
X-WR-CALDESC:Floral designer Beth White will lead this hands-on class using
  greenery available for sale. Learn how to decorate your windows and doors
  to create a festive atmosphere for the holidays.\n\nOur Holiday Greenery 
 Sale begins on the same day (Friday\, November 30th) and goes through Satu
 rday\, December 1st. So get some great ideas from the class and then pick 
 up some greenery to work with too. All in the same spot!\n\nThe cost is $1
 5 for Aldridge Gardens members and $25 for non-members.  \n
X-WR-RELCALID:d1bd46e55411ac3cd282068bc95d0384
X-WR-TIMEZONE:America/Chicago
BEGIN:VTIMEZONE
TZID:America/Chicago
BEGIN:STANDARD
TZNAME:CST
DTSTART:20181104T020000
TZOFFSETFROM:-0500
TZOFFSETTO:-0600
RDATE:20191103T020000
END:STANDARD
BEGIN:DAYLIGHT
TZNAME:CDT
DTSTART:20180311T020000
TZOFFSETFROM:-0600
TZOFFSETTO:-0500
RDATE:20190310T020000
RDATE:20200308T020000
END:DAYLIGHT
END:VTIMEZONE
BEGIN:VEVENT
UID:fb96b011-4753-4a43-bfd5-46ebdcb2b814
DTSTAMP:20260420T185959Z
DESCRIPTION:Floral designer Beth White will lead this hands-on class using 
 greenery available for sale. Learn how to decorate your windows and doors 
 to create a festive atmosphere for the holidays.\n\nOur Holiday Greenery S
 ale begins on the same day (Friday\, November 30th) and goes through Satur
 day\, December 1st. So get some great ideas from the class and then pick u
 p some greenery to work with too. All in the same spot!\n\nThe cost is $15
  for Aldridge Gardens members and $25 for non-members.  \n
DTSTART;TZID=America/Chicago:20181130T090000
DTEND;TZID=America/Chicago:20181130T110000
LOCATION:The House at Aldridge Gardens
SUMMARY:Holiday Decorating Class
END:VEVENT
END:VCALENDAR
