BEGIN:VCALENDAR
VERSION:2.0
PRODID:-//aldridgegardens.com//NONSGML kigkonsult.se iCalcreator 2.30.10//
CALSCALE:GREGORIAN
METHOD:PUBLISH
UID:c420f385-60f6-496a-8364-73dffb1445c9
X-WR-CALDESC:Greenery Sale - Saturday\, December 1st from 9 a.m to 1 p.m.\n
 \nNow is the time to decorate your mantles\, mailboxes\, and entryways to 
 set the mood for the holidays. So decorate with fresh greenery\, botanical
  materials from Aldridge Gardens! Get greenery for wreaths\, garlands\, an
 d other holiday decorations!
X-WR-RELCALID:77866ba8ba871656c69fb9de2f64a754
X-WR-TIMEZONE:America/Chicago
BEGIN:VTIMEZONE
TZID:America/Chicago
BEGIN:STANDARD
TZNAME:CST
DTSTART:20181104T020000
TZOFFSETFROM:-0500
TZOFFSETTO:-0600
RDATE:20191103T020000
END:STANDARD
BEGIN:DAYLIGHT
TZNAME:CDT
DTSTART:20180311T020000
TZOFFSETFROM:-0600
TZOFFSETTO:-0500
RDATE:20190310T020000
RDATE:20200308T020000
END:DAYLIGHT
END:VTIMEZONE
BEGIN:VEVENT
UID:c54c1bc2-fab8-4e31-ba7b-1db81dc3b99d
DTSTAMP:20260420T172650Z
DESCRIPTION:Greenery Sale - Saturday\, December 1st from 9 a.m to 1 p.m.\n
 \nNow is the time to decorate your mantles\, mailboxes\, and entryways to 
 set the mood for the holidays. So decorate with fresh greenery\, botanical
  materials from Aldridge Gardens! Get greenery for wreaths\, garlands\, an
 d other holiday decorations!
DTSTART;TZID=America/Chicago:20181201T090000
DTEND;TZID=America/Chicago:20181201T130000
LOCATION:Behind Aldridge House - on the patio at Roots
SUMMARY:Holiday Greenery Sale
END:VEVENT
END:VCALENDAR
