BEGIN:VCALENDAR
VERSION:2.0
PRODID:-//aldridgegardens.com//NONSGML kigkonsult.se iCalcreator 2.30.10//
CALSCALE:GREGORIAN
METHOD:PUBLISH
UID:ad601aa8-5af8-41df-886c-ad01619b7050
X-WR-CALDESC:Thursday\, Dec. 6th from 10 a.m. to 7 p.m.\, Aldridge Gardens 
 will host the Third Annual “Gifts of Art' event!\n\nEnjoy a stress free\, 
 fun day of shopping! Just in time for the holiday season\, our “Gifts of A
 rt” holiday market will feature hand-selected Alabama artists offering rea
 sonably priced\, one-of-kind gifts of art. Original art pieces will includ
 e glass\; ceramic\; wood\; metal\; fabric\; and more. Decorative. Function
 al. Wearable. Worldly. Southern and Alabama-inspired. \n\nRain or shine\, 
 this indoor show takes place in the beauty and comfort of the Aldridge Gar
 dens gallery in Hoover. Bring a friend\, come on your lunch break\, or enj
 oy the evening with us. Free admission. \n\n“Gifts of Art” is Dec. 6 ONLY.
  10 a.m. to 7 p.m.
X-WR-RELCALID:0903188a2f12fbfeae31cd6b094ebdaa
X-WR-TIMEZONE:America/Chicago
BEGIN:VTIMEZONE
TZID:America/Chicago
BEGIN:STANDARD
TZNAME:CST
DTSTART:20181104T020000
TZOFFSETFROM:-0500
TZOFFSETTO:-0600
RDATE:20191103T020000
END:STANDARD
BEGIN:DAYLIGHT
TZNAME:CDT
DTSTART:20180311T020000
TZOFFSETFROM:-0600
TZOFFSETTO:-0500
RDATE:20190310T020000
RDATE:20200308T020000
END:DAYLIGHT
END:VTIMEZONE
BEGIN:VEVENT
UID:f740fb6e-8be4-4fde-8744-6ee55e3d0dcf
DTSTAMP:20260420T172203Z
DESCRIPTION:Thursday\, Dec. 6th from 10 a.m. to 7 p.m.\, Aldridge Gardens w
 ill host the Third Annual “Gifts of Art' event!\n\nEnjoy a stress free\, f
 un day of shopping! Just in time for the holiday season\, our “Gifts of Ar
 t” holiday market will feature hand-selected Alabama artists offering reas
 onably priced\, one-of-kind gifts of art. Original art pieces will include
  glass\; ceramic\; wood\; metal\; fabric\; and more. Decorative. Functiona
 l. Wearable. Worldly. Southern and Alabama-inspired. \n\nRain or shine\, t
 his indoor show takes place in the beauty and comfort of the Aldridge Gard
 ens gallery in Hoover. Bring a friend\, come on your lunch break\, or enjo
 y the evening with us. Free admission. \n\n“Gifts of Art” is Dec. 6 ONLY. 
 10 a.m. to 7 p.m.
DTSTART;TZID=America/Chicago:20181206T100000
DTEND;TZID=America/Chicago:20181206T190000
LOCATION:The House at Aldridge Gardens
SUMMARY:Gifts of Art
END:VEVENT
END:VCALENDAR
