BEGIN:VCALENDAR
VERSION:2.0
PRODID:-//aldridgegardens.com//NONSGML kigkonsult.se iCalcreator 2.30.10//
CALSCALE:GREGORIAN
METHOD:PUBLISH
UID:42614526-20f5-4b96-8014-3b200993cba7
X-WR-CALDESC:Join us on Monday the 10th to hear Tom Dameron speak directly 
 about his exhibit at Aldridge Gardens. \n\n<b>About the Artist</b>\nTom Da
 meron is a local Artist and Sousaphone player with TheLegendary Pineapple 
 Skinners jazz band and The Old Fashioned Rhythm Method. He works in a vari
 ety of mediums including pencil\, watercolor\, etchings\, serigraphy\, acr
 ylics and stained glass. The focus of his work is the celebration of peopl
 e and nature. Portraiture is a favorite method he uses to capture people i
 n their normal surroundings and to tell stories. Flowers are another favor
 ite subject in his art because of their quiet beauty and peacefulness.\n\n
 \n
X-WR-RELCALID:a5b14f436a2af104714c43f6a42bddff
X-WR-TIMEZONE:America/Chicago
BEGIN:VTIMEZONE
TZID:America/Chicago
BEGIN:STANDARD
TZNAME:CST
DTSTART:20181104T020000
TZOFFSETFROM:-0500
TZOFFSETTO:-0600
RDATE:20191103T020000
END:STANDARD
BEGIN:DAYLIGHT
TZNAME:CDT
DTSTART:20180311T020000
TZOFFSETFROM:-0600
TZOFFSETTO:-0500
RDATE:20190310T020000
RDATE:20200308T020000
END:DAYLIGHT
END:VTIMEZONE
BEGIN:VEVENT
UID:53967194-2ef5-49c1-81cb-b61af27fd442
DTSTAMP:20260420T174121Z
DESCRIPTION:Join us on Monday the 10th to hear Tom Dameron speak directly a
 bout his exhibit at Aldridge Gardens. \n\n<b>About the Artist</b>\nTom Dam
 eron is a local Artist and Sousaphone player with TheLegendary Pineapple S
 kinners jazz band and The Old Fashioned Rhythm Method. He works in a varie
 ty of mediums including pencil\, watercolor\, etchings\, serigraphy\, acry
 lics and stained glass. The focus of his work is the celebration of people
  and nature. Portraiture is a favorite method he uses to capture people in
  their normal surroundings and to tell stories. Flowers are another favori
 te subject in his art because of their quiet beauty and peacefulness.\n\n
 \n
DTSTART;TZID=America/Chicago:20181210T180000
DTEND;TZID=America/Chicago:20181210T190000
LOCATION:Eddie and Kay Aldridge Arts and Historical Collections Museum
SUMMARY:Meet-the-Artist Reception - Tom Dameron
END:VEVENT
END:VCALENDAR
