BEGIN:VCALENDAR
VERSION:2.0
PRODID:-//aldridgegardens.com//NONSGML kigkonsult.se iCalcreator 2.30.10//
CALSCALE:GREGORIAN
METHOD:PUBLISH
UID:5ef0ff62-d219-4ab1-9645-dc2f197e94f6
X-WR-CALDESC:Parents and grandparents\, bring your child/grandchild to our 
 Mad Hatter’s Fairy Garden Tea Party! \n\nThis is the requested repeat of o
 ur smash hit Mad Hatter Fairy Garden Tea Party of July 2018. And this one 
 is on Martin Luther King Day\, so there’s no school that day. We will deco
 rate a small garden container\, then have “tea” (finger sandwiches and des
 serts) while the containers dry. We will play games\, then pot up the cont
 ainers to take home. Hats are welcome!\n\nCost for Aldridge Gardens member
 s $30\, while non-members is $40.\n<b>1 registration includes 1 adult + 1 
 child</b>\nMaximum 12 registrations (24 people)\n
X-WR-RELCALID:1370a96b22f155e93847ced33bfe073e
X-WR-TIMEZONE:America/Chicago
BEGIN:VTIMEZONE
TZID:America/Chicago
BEGIN:STANDARD
TZNAME:CST
DTSTART:20181104T020000
TZOFFSETFROM:-0500
TZOFFSETTO:-0600
RDATE:20191103T020000
END:STANDARD
BEGIN:DAYLIGHT
TZNAME:CDT
DTSTART:20180311T020000
TZOFFSETFROM:-0600
TZOFFSETTO:-0500
RDATE:20190310T020000
RDATE:20200308T020000
END:DAYLIGHT
END:VTIMEZONE
BEGIN:VEVENT
UID:7e1af6c2-9ac0-4b60-ae9b-40ded0ecc281
DTSTAMP:20260420T155458Z
DESCRIPTION:Parents and grandparents\, bring your child/grandchild to our M
 ad Hatter’s Fairy Garden Tea Party! \n\nThis is the requested repeat of ou
 r smash hit Mad Hatter Fairy Garden Tea Party of July 2018. And this one i
 s on Martin Luther King Day\, so there’s no school that day. We will decor
 ate a small garden container\, then have “tea” (finger sandwiches and dess
 erts) while the containers dry. We will play games\, then pot up the conta
 iners to take home. Hats are welcome!\n\nCost for Aldridge Gardens members
  $30\, while non-members is $40.\n<b>1 registration includes 1 adult + 1 c
 hild</b>\nMaximum 12 registrations (24 people)\n
DTSTART;TZID=America/Chicago:20190121T110000
DTEND;TZID=America/Chicago:20190121T130000
LOCATION:The House and Patio at Aldridge Gardens
SUMMARY:Mad Hatter’s Fairy Garden Tea Party 2
END:VEVENT
END:VCALENDAR
