BEGIN:VCALENDAR
VERSION:2.0
PRODID:-//aldridgegardens.com//NONSGML kigkonsult.se iCalcreator 2.30.10//
CALSCALE:GREGORIAN
METHOD:PUBLISH
UID:2b94e3d7-b661-4234-b740-a486eac5cd32
X-WR-CALDESC:Propagator level members will enjoy their monthly wine recepti
 on while mixing and mingling with the artist. \n\n<b>About the Artist</b>
 \nThe last time W. Calvin Ross spoke to his friend\, mentor\, and renowned
  Alabama sculptor\, Frank Fleming\, the two of them outlined plans for an 
 exhibition of their respective works featured together. Sadly life got in 
 the way and Frank passed before that show materialized. \n\nWhen Aldridge 
 Gardens Sculpture and Arts Committee member Amy Peterson got wind of Calvi
 n’s story\, she contacted him about featuring his work in a solo exhibitio
 n at the Gardens\, exhibiting a body of work with an emphasis on Ross' fri
 endship with\, and artistic influences from\, the late Frank Fleming. Calv
 in set to work on months of planning\, researching\, and preparing the bod
 y of work he’s calling “Natural Light: An Homage to Frank Fleming by W. Ca
 lvin Ross”. Inspired by the rawness of Fleming’s porcelain pieces and the 
 tenebrous nature of his bronze works\, Calvin chose to create most of the 
 works for this show in ink on paper (though some works in other mediums wi
 th connections to Frank are peppered throughout). \n\nDrawing from a lifet
 ime of admiration\, almost a decade of friendship\, and a knowledge of the
  sculptor’s life and work\, Calvin has worked to create compelling origina
 l works of art that sing of the beautiful\, magical man and artist that wa
 s Frank Fleming.\n\n<b>This propagator member event will roll into the gen
 eral artist reception beginning at 6 p.m. </b>\n
X-WR-RELCALID:b6777b16b09caa8a90e47999d0cc0354
X-WR-TIMEZONE:America/Chicago
BEGIN:VTIMEZONE
TZID:America/Chicago
BEGIN:STANDARD
TZNAME:CST
DTSTART:20181104T020000
TZOFFSETFROM:-0500
TZOFFSETTO:-0600
RDATE:20191103T020000
END:STANDARD
BEGIN:DAYLIGHT
TZNAME:CDT
DTSTART:20180311T020000
TZOFFSETFROM:-0600
TZOFFSETTO:-0500
RDATE:20190310T020000
RDATE:20200308T020000
END:DAYLIGHT
END:VTIMEZONE
BEGIN:VEVENT
UID:bd3bffbd-c69a-431c-b02d-528555bdb234
DTSTAMP:20260420T142102Z
DESCRIPTION:Propagator level members will enjoy their monthly wine receptio
 n while mixing and mingling with the artist. \n\n<b>About the Artist</b>\n
 The last time W. Calvin Ross spoke to his friend\, mentor\, and renowned A
 labama sculptor\, Frank Fleming\, the two of them outlined plans for an ex
 hibition of their respective works featured together. Sadly life got in th
 e way and Frank passed before that show materialized. \n\nWhen Aldridge Ga
 rdens Sculpture and Arts Committee member Amy Peterson got wind of Calvin’
 s story\, she contacted him about featuring his work in a solo exhibition 
 at the Gardens\, exhibiting a body of work with an emphasis on Ross' frien
 dship with\, and artistic influences from\, the late Frank Fleming. Calvin
  set to work on months of planning\, researching\, and preparing the body 
 of work he’s calling “Natural Light: An Homage to Frank Fleming by W. Calv
 in Ross”. Inspired by the rawness of Fleming’s porcelain pieces and the te
 nebrous nature of his bronze works\, Calvin chose to create most of the wo
 rks for this show in ink on paper (though some works in other mediums with
  connections to Frank are peppered throughout). \n\nDrawing from a lifetim
 e of admiration\, almost a decade of friendship\, and a knowledge of the s
 culptor’s life and work\, Calvin has worked to create compelling original 
 works of art that sing of the beautiful\, magical man and artist that was 
 Frank Fleming.\n\n<b>This propagator member event will roll into the gener
 al artist reception beginning at 6 p.m. </b>\n
DTSTART;TZID=America/Chicago:20190211T170000
DTEND;TZID=America/Chicago:20190211T180000
LOCATION:Eddie and Kay Aldridge Arts and Historical Collections Museum
SUMMARY:Propagator Wine Reception - Artist W. Calvin Ross
END:VEVENT
END:VCALENDAR
