BEGIN:VCALENDAR
VERSION:2.0
PRODID:-//aldridgegardens.com//NONSGML kigkonsult.se iCalcreator 2.30.10//
CALSCALE:GREGORIAN
METHOD:PUBLISH
UID:0be045a3-fdc0-40b3-9b58-35713ec7c407
X-WR-CALDESC:<b>This event has been postponed. We'll be rescheduling it for
  the summer. Look for details to come later on our website. </b>\n\nGini (
 Jeanie) Mohammad\, from Red Sea Ethiopian & Mediterranean Restaurant\, ret
 urns to Aldridge Gardens! We'll reprise how to make Injera bread and go be
 yond with similar taste treats\, as well as written recipes to take home! 
  Cost is $30 for Aldridge Gardens members and $35 for nonmembers. Space is
  limited. Only 20 seats available. You don't need to have attended the fir
 st Ethiopian Cooking class to take part in this one.\n\n<b>This event has 
 been postponed. We'll be rescheduling it for the summer. Look for details 
 to come later on our website. </b>
X-WR-RELCALID:06579ce435ec9f32e0e0990cf455806d
X-WR-TIMEZONE:America/Chicago
BEGIN:VTIMEZONE
TZID:America/Chicago
BEGIN:STANDARD
TZNAME:CST
DTSTART:20181104T020000
TZOFFSETFROM:-0500
TZOFFSETTO:-0600
RDATE:20191103T020000
END:STANDARD
BEGIN:DAYLIGHT
TZNAME:CDT
DTSTART:20180311T020000
TZOFFSETFROM:-0600
TZOFFSETTO:-0500
RDATE:20190310T020000
RDATE:20200308T020000
END:DAYLIGHT
END:VTIMEZONE
BEGIN:VEVENT
UID:b31d8a2e-010e-4688-8013-969b9af861ab
DTSTAMP:20260420T141958Z
DESCRIPTION:<b>This event has been postponed. We'll be rescheduling it for 
 the summer. Look for details to come later on our website. </b>\n\nGini (J
 eanie) Mohammad\, from Red Sea Ethiopian & Mediterranean Restaurant\, retu
 rns to Aldridge Gardens! We'll reprise how to make Injera bread and go bey
 ond with similar taste treats\, as well as written recipes to take home!  
 Cost is $30 for Aldridge Gardens members and $35 for nonmembers. Space is 
 limited. Only 20 seats available. You don't need to have attended the firs
 t Ethiopian Cooking class to take part in this one.\n\n<b>This event has b
 een postponed. We'll be rescheduling it for the summer. Look for details t
 o come later on our website. </b>
DTSTART;TZID=America/Chicago:20190219T180000
DTEND;TZID=America/Chicago:20190219T200000
LOCATION:The House at Aldridge Gardens
SUMMARY:Ethiopian Cooking
END:VEVENT
END:VCALENDAR
