BEGIN:VCALENDAR
VERSION:2.0
PRODID:-//aldridgegardens.com//NONSGML kigkonsult.se iCalcreator 2.30.10//
CALSCALE:GREGORIAN
METHOD:PUBLISH
UID:55b0066a-be1c-4001-9c4a-ed40065f9c4a
X-WR-CALDESC:Join us at Aldridge Gardens on Saturday\, March 2nd from 9:30 
 to 11:30 a.m. for the 21st Annual Hoover Arbor Day Celebration. \n\nPresen
 ted by the Hoover Beautification Board\, this community-wide celebration w
 ill feature a formal ceremony honoring winners of this year’s 4th Grade Ar
 bor Day Essay Contest\, FREE TREES for Hoover residents\, a ceremonial tre
 e planting\, full access to Aldridge Gardens and the Roots gift shop\, as 
 well as assorted refreshments from local businesses. ISA Certified Arboris
 ts and other plant professionals will be on site to answer tree related qu
 estions and to assist residents with selecting an appropriate tree for the
 ir yard. \n\nLimited numbers of the following tree species will be availab
 le: 'Highbush' blueberry\, American hazelnut\, American fringetree\, 'Cher
 okee Princess' flowering dogwood\, Eastern redbud\, American hornbeam\, Ca
 rolina silverbell\, Kentucky yellowwood\, 'Wildfire' blackgum\, common per
 simmon\, red maple\, sugar maple\, bald cypress\, white oak\, Southern mag
 nolia\, tulip poplar\, and black walnut.   \n\nArbor Day in Hoover is the 
 result of a continued partnership between the City of Hoover\, Hoover City
  School System\, Alabama Power\, Aldridge Gardens\, local businesses\, and
  numerous volunteers. These partners believe in the value trees bring to o
 ur community and they understand the importance of planting the right tree
  in the right place.\n\n<i>Photo courtesy: Hoover Sun</i>
X-WR-RELCALID:e4993387104717785fcde4d6af1aa960
X-WR-TIMEZONE:America/Chicago
BEGIN:VTIMEZONE
TZID:America/Chicago
BEGIN:STANDARD
TZNAME:CST
DTSTART:20181104T020000
TZOFFSETFROM:-0500
TZOFFSETTO:-0600
RDATE:20191103T020000
END:STANDARD
BEGIN:DAYLIGHT
TZNAME:CDT
DTSTART:20180311T020000
TZOFFSETFROM:-0600
TZOFFSETTO:-0500
RDATE:20190310T020000
RDATE:20200308T020000
END:DAYLIGHT
END:VTIMEZONE
BEGIN:VEVENT
UID:8910e728-5687-4ab3-98b2-c345b18f0267
DTSTAMP:20260420T123923Z
DESCRIPTION:Join us at Aldridge Gardens on Saturday\, March 2nd from 9:30 t
 o 11:30 a.m. for the 21st Annual Hoover Arbor Day Celebration. \n\nPresent
 ed by the Hoover Beautification Board\, this community-wide celebration wi
 ll feature a formal ceremony honoring winners of this year’s 4th Grade Arb
 or Day Essay Contest\, FREE TREES for Hoover residents\, a ceremonial tree
  planting\, full access to Aldridge Gardens and the Roots gift shop\, as w
 ell as assorted refreshments from local businesses. ISA Certified Arborist
 s and other plant professionals will be on site to answer tree related que
 stions and to assist residents with selecting an appropriate tree for thei
 r yard. \n\nLimited numbers of the following tree species will be availabl
 e: 'Highbush' blueberry\, American hazelnut\, American fringetree\, 'Chero
 kee Princess' flowering dogwood\, Eastern redbud\, American hornbeam\, Car
 olina silverbell\, Kentucky yellowwood\, 'Wildfire' blackgum\, common pers
 immon\, red maple\, sugar maple\, bald cypress\, white oak\, Southern magn
 olia\, tulip poplar\, and black walnut.   \n\nArbor Day in Hoover is the r
 esult of a continued partnership between the City of Hoover\, Hoover City 
 School System\, Alabama Power\, Aldridge Gardens\, local businesses\, and 
 numerous volunteers. These partners believe in the value trees bring to ou
 r community and they understand the importance of planting the right tree 
 in the right place.\n\n<i>Photo courtesy: Hoover Sun</i>
DTSTART;TZID=America/Chicago:20190302T093000
DTEND;TZID=America/Chicago:20190302T113000
LOCATION:Aldridge Gardens
SUMMARY:City of Hoover’s 21st Annual Arbor Day Celebration
END:VEVENT
END:VCALENDAR
