BEGIN:VCALENDAR
VERSION:2.0
PRODID:-//aldridgegardens.com//NONSGML kigkonsult.se iCalcreator 2.30.10//
CALSCALE:GREGORIAN
METHOD:PUBLISH
UID:73a2420a-0de1-4012-b34b-3c7a27653900
X-WR-CALDESC:Fresh Eyes New Visions: Intro to Ikebana\n\nJoin floral design
 er Beth White for this fun\, informative class about the Japanese art of f
 lower arrangement. You will take home the Ikebana you design! Tuesday\, Ma
 rch 12th\, from 6 to 8 p.m. in the Aldridge Gardens house. \n\n$20 Members
 /$25 Non-Members\nClass size is limited.  Pre-registration suggested.\n\n<
 b>Instructor: </b>\nFloral Designer\, Beth White\n
X-WR-RELCALID:297470475c9cdde6aaf3ee1748399e4c
X-WR-TIMEZONE:America/Chicago
BEGIN:VTIMEZONE
TZID:America/Chicago
BEGIN:STANDARD
TZNAME:CST
DTSTART:20181104T020000
TZOFFSETFROM:-0500
TZOFFSETTO:-0600
RDATE:20191103T020000
END:STANDARD
BEGIN:DAYLIGHT
TZNAME:CDT
DTSTART:20190310T020000
TZOFFSETFROM:-0600
TZOFFSETTO:-0500
RDATE:20200308T020000
END:DAYLIGHT
END:VTIMEZONE
BEGIN:VEVENT
UID:9354321f-7750-42b5-ba8c-4154f059adf7
DTSTAMP:20260420T124420Z
DESCRIPTION:Fresh Eyes New Visions: Intro to Ikebana\n\nJoin floral designe
 r Beth White for this fun\, informative class about the Japanese art of fl
 ower arrangement. You will take home the Ikebana you design! Tuesday\, Mar
 ch 12th\, from 6 to 8 p.m. in the Aldridge Gardens house. \n\n$20 Members/
 $25 Non-Members\nClass size is limited.  Pre-registration suggested.\n\n<b
 >Instructor: </b>\nFloral Designer\, Beth White\n
DTSTART;TZID=America/Chicago:20190312T180000
DTEND;TZID=America/Chicago:20190312T200000
LOCATION:
SUMMARY:Intro to Ikebana
END:VEVENT
END:VCALENDAR
