BEGIN:VCALENDAR
VERSION:2.0
PRODID:-//aldridgegardens.com//NONSGML kigkonsult.se iCalcreator 2.30.10//
CALSCALE:GREGORIAN
METHOD:PUBLISH
UID:18cc4b99-9384-4167-87e9-c08efa768c13
X-WR-CALDESC:Saturday mornings were made for this!\n\nYou can't go wrong wi
 th fresh air and a little exercise while on a guided tour of the Gardens. 
 Join Dr. Richard and Patricia Ryel for a walk on our grounds to catch a gl
 impse of the beautiful birds that are migrating through the area. Over 100
  different species have been spotted in the Gardens during past bird watch
 ing events. \n\nThis monthly members-only event is free\, but we do ask th
 at you kindly RSVP.  \n\nThe remaining dates of this year's currently sche
 duled bird watches are:\nApril 20\nMay 18\nJune 15\nJuly 20\nAugust 17\nSe
 ptember 21\nOctober 12\nNovember 16
X-WR-RELCALID:bd0962d58f49a5051a6ae5973e501e50
X-WR-TIMEZONE:America/Chicago
BEGIN:VTIMEZONE
TZID:America/Chicago
BEGIN:STANDARD
TZNAME:CST
DTSTART:20181104T020000
TZOFFSETFROM:-0500
TZOFFSETTO:-0600
RDATE:20191103T020000
END:STANDARD
BEGIN:DAYLIGHT
TZNAME:CDT
DTSTART:20190310T020000
TZOFFSETFROM:-0600
TZOFFSETTO:-0500
RDATE:20200308T020000
END:DAYLIGHT
END:VTIMEZONE
BEGIN:VEVENT
UID:903a8e03-9938-416e-a856-d9969dfd4e99
DTSTAMP:20260420T123939Z
DESCRIPTION:Saturday mornings were made for this!\n\nYou can't go wrong wit
 h fresh air and a little exercise while on a guided tour of the Gardens. J
 oin Dr. Richard and Patricia Ryel for a walk on our grounds to catch a gli
 mpse of the beautiful birds that are migrating through the area. Over 100 
 different species have been spotted in the Gardens during past bird watchi
 ng events. \n\nThis monthly members-only event is free\, but we do ask tha
 t you kindly RSVP.  \n\nThe remaining dates of this year's currently sched
 uled bird watches are:\nApril 20\nMay 18\nJune 15\nJuly 20\nAugust 17\nSep
 tember 21\nOctober 12\nNovember 16
DTSTART;TZID=America/Chicago:20190316T080000
DTEND;TZID=America/Chicago:20190316T100000
LOCATION:
SUMMARY:Members Only Guided Bird Watch
END:VEVENT
END:VCALENDAR
