BEGIN:VCALENDAR
VERSION:2.0
PRODID:-//aldridgegardens.com//NONSGML kigkonsult.se iCalcreator 2.30.10//
CALSCALE:GREGORIAN
METHOD:PUBLISH
UID:6100f7fc-ac6b-4eed-8252-13cb28ee325a
X-WR-CALDESC:Coffee and Donuts at the Gardens Tuesday and Thursday morning 
 during Spring Break\n\nThe Wandering Coffee Co.\, Birmingham's mobile coff
 ee shop\, will be selling organic coffee and tea. Plus\, Heavenly Donuts w
 ill be selling their fresh\, hand-made donuts! Both will be here at the Ga
 rdens from 8 to 11 a.m. on Tuesday (26th) and Thursday (28th). Come and en
 joy a fresh cup and a sweet treat while strolling through the Gardens duri
 ng Spring Break. \n
X-WR-RELCALID:da9ac5d2d473e26d396af612eaa83c12
X-WR-TIMEZONE:America/Chicago
BEGIN:VTIMEZONE
TZID:America/Chicago
BEGIN:STANDARD
TZNAME:CST
DTSTART:20181104T020000
TZOFFSETFROM:-0500
TZOFFSETTO:-0600
RDATE:20191103T020000
END:STANDARD
BEGIN:DAYLIGHT
TZNAME:CDT
DTSTART:20190310T020000
TZOFFSETFROM:-0600
TZOFFSETTO:-0500
RDATE:20200308T020000
END:DAYLIGHT
END:VTIMEZONE
BEGIN:VEVENT
UID:d2ea5cf0-8252-45c5-a13e-3d26e419fe16
DTSTAMP:20260420T124540Z
DESCRIPTION:Coffee and Donuts at the Gardens Tuesday and Thursday morning d
 uring Spring Break\n\nThe Wandering Coffee Co.\, Birmingham's mobile coffe
 e shop\, will be selling organic coffee and tea. Plus\, Heavenly Donuts wi
 ll be selling their fresh\, hand-made donuts! Both will be here at the Gar
 dens from 8 to 11 a.m. on Tuesday (26th) and Thursday (28th). Come and enj
 oy a fresh cup and a sweet treat while strolling through the Gardens durin
 g Spring Break. \n
DTSTART;TZID=America/Chicago:20190326T080000
DTEND;TZID=America/Chicago:20190326T110000
LOCATION:
SUMMARY:Food Trucks - Coffee and Donuts at the Gardens
END:VEVENT
END:VCALENDAR
