BEGIN:VCALENDAR
VERSION:2.0
PRODID:-//aldridgegardens.com//NONSGML kigkonsult.se iCalcreator 2.30.10//
CALSCALE:GREGORIAN
METHOD:PUBLISH
UID:56f72638-0039-488a-9250-9d1f74df6dea
X-WR-CALDESC:Build It and They Will Come:  An Intro to Square Foot Gardenin
 g with Jan Rogers\n\nJan is an expert at Square Foot Gardening\, so she wi
 ll instruct you in the best practices to obtain the most out of a small sp
 ace garden.  What to plant\, when to plant\, how to upkeep\, and MORE! Thu
 rsday\, March 14th from 6 to 8 p.m. in the Aldridge Gardens house.\n\n$15 
 Members/$20 Non-Members\nClass size is limited. Pre-registration suggested
 .\n\n\n
X-WR-RELCALID:44ca7bb7e6d8278e16b004330b88703c
X-WR-TIMEZONE:America/Chicago
BEGIN:VTIMEZONE
TZID:America/Chicago
BEGIN:STANDARD
TZNAME:CST
DTSTART:20181104T020000
TZOFFSETFROM:-0500
TZOFFSETTO:-0600
RDATE:20191103T020000
END:STANDARD
BEGIN:DAYLIGHT
TZNAME:CDT
DTSTART:20190310T020000
TZOFFSETFROM:-0600
TZOFFSETTO:-0500
RDATE:20200308T020000
END:DAYLIGHT
END:VTIMEZONE
BEGIN:VEVENT
UID:4f04909c-844a-434b-b615-5f3e15c4cc07
DTSTAMP:20260420T123912Z
DESCRIPTION:Build It and They Will Come:  An Intro to Square Foot Gardening
  with Jan Rogers\n\nJan is an expert at Square Foot Gardening\, so she wil
 l instruct you in the best practices to obtain the most out of a small spa
 ce garden.  What to plant\, when to plant\, how to upkeep\, and MORE! Thur
 sday\, March 14th from 6 to 8 p.m. in the Aldridge Gardens house.\n\n$15 M
 embers/$20 Non-Members\nClass size is limited. Pre-registration suggested.
 \n\n\n
DTSTART;TZID=America/Chicago:20190326T180000
DTEND;TZID=America/Chicago:20190326T200000
LOCATION:
SUMMARY:Intro to Square Foot Gardening
END:VEVENT
END:VCALENDAR
