BEGIN:VCALENDAR
VERSION:2.0
PRODID:-//aldridgegardens.com//NONSGML kigkonsult.se iCalcreator 2.30.10//
CALSCALE:GREGORIAN
METHOD:PUBLISH
UID:02d2c6cb-6229-431b-8ce0-b2288f61995b
X-WR-CALDESC:Coffee at the Gardens Thursday morning during Spring Break\n\n
 The Wandering Coffee Co.\, Birmingham's mobile coffee shop\, will be selli
 ng organic coffee and tea from 8 to 11 a.m. on Thursday the 28th. Come and
  enjoy a fresh cup of coffee while strolling through the Gardens during Sp
 ring Break. \n
X-WR-RELCALID:5be3b419e3480141b2108483829404ca
X-WR-TIMEZONE:America/Chicago
BEGIN:VTIMEZONE
TZID:America/Chicago
BEGIN:STANDARD
TZNAME:CST
DTSTART:20181104T020000
TZOFFSETFROM:-0500
TZOFFSETTO:-0600
RDATE:20191103T020000
END:STANDARD
BEGIN:DAYLIGHT
TZNAME:CDT
DTSTART:20190310T020000
TZOFFSETFROM:-0600
TZOFFSETTO:-0500
RDATE:20200308T020000
END:DAYLIGHT
END:VTIMEZONE
BEGIN:VEVENT
UID:d30b7d3f-20cc-406d-86db-854c78308634
DTSTAMP:20260420T123737Z
DESCRIPTION:Coffee at the Gardens Thursday morning during Spring Break\n\nT
 he Wandering Coffee Co.\, Birmingham's mobile coffee shop\, will be sellin
 g organic coffee and tea from 8 to 11 a.m. on Thursday the 28th. Come and 
 enjoy a fresh cup of coffee while strolling through the Gardens during Spr
 ing Break. \n
DTSTART;TZID=America/Chicago:20190328T080000
DTEND;TZID=America/Chicago:20190328T110000
LOCATION:
SUMMARY:Food Truck - Coffee at the Gardens
END:VEVENT
END:VCALENDAR
