BEGIN:VCALENDAR
VERSION:2.0
PRODID:-//aldridgegardens.com//NONSGML kigkonsult.se iCalcreator 2.30.10//
CALSCALE:GREGORIAN
METHOD:PUBLISH
UID:071fa041-b959-4eb9-be07-caa0a4b4b511
X-WR-CALDESC:Join David Doggett for a walk through the Gardens to see and l
 earn about the various Japanese Maples featured on our grounds. In additio
 n\, a few Japanese maples will be available for sale. This event is free f
 or registered participants\, but is now <b>SOLD OUT</b>.
X-WR-RELCALID:979a864d940f55dca87a0b35a3507e46
X-WR-TIMEZONE:America/Chicago
BEGIN:VTIMEZONE
TZID:America/Chicago
BEGIN:STANDARD
TZNAME:CST
DTSTART:20181104T020000
TZOFFSETFROM:-0500
TZOFFSETTO:-0600
RDATE:20191103T020000
END:STANDARD
BEGIN:DAYLIGHT
TZNAME:CDT
DTSTART:20190310T020000
TZOFFSETFROM:-0600
TZOFFSETTO:-0500
RDATE:20200308T020000
END:DAYLIGHT
END:VTIMEZONE
BEGIN:VEVENT
UID:15abcf88-2ff7-40fb-a54a-35b1d892e8f9
DTSTAMP:20260420T105454Z
DESCRIPTION:Join David Doggett for a walk through the Gardens to see and le
 arn about the various Japanese Maples featured on our grounds. In addition
 \, a few Japanese maples will be available for sale. This event is free fo
 r registered participants\, but is now <b>SOLD OUT</b>.
DTSTART;TZID=America/Chicago:20190406T083000
DTEND;TZID=America/Chicago:20190406T100000
LOCATION:
SUMMARY:Japanese Maple Walk and Talk with David Doggett
END:VEVENT
END:VCALENDAR
