BEGIN:VCALENDAR
VERSION:2.0
PRODID:-//aldridgegardens.com//NONSGML kigkonsult.se iCalcreator 2.30.10//
CALSCALE:GREGORIAN
METHOD:PUBLISH
UID:94f71cf0-82d6-4421-80f0-dab56a2b4c36
X-WR-CALDESC:Artist Linda Vance has instructed over a thousand people in oi
 l and acrylic painting. Some of her most successful students will have the
 ir works displayed and available for sale in the gallery during April and 
 May. They are Carole Brightbill\, Celeste David\, and Mohammed Dolatabadi.
  Join us for a reception to meet them personally and hear about their art 
 along with what inspires them. \n\n
X-WR-RELCALID:44b9e43c16781c47d2a645818874fc51
X-WR-TIMEZONE:America/Chicago
BEGIN:VTIMEZONE
TZID:America/Chicago
BEGIN:STANDARD
TZNAME:CST
DTSTART:20181104T020000
TZOFFSETFROM:-0500
TZOFFSETTO:-0600
RDATE:20191103T020000
END:STANDARD
BEGIN:DAYLIGHT
TZNAME:CDT
DTSTART:20190310T020000
TZOFFSETFROM:-0600
TZOFFSETTO:-0500
RDATE:20200308T020000
END:DAYLIGHT
END:VTIMEZONE
BEGIN:VEVENT
UID:09a805c6-cc7b-41f1-a99e-33fc55a3d910
DTSTAMP:20260420T110552Z
DESCRIPTION:Artist Linda Vance has instructed over a thousand people in oil
  and acrylic painting. Some of her most successful students will have thei
 r works displayed and available for sale in the gallery during April and M
 ay. They are Carole Brightbill\, Celeste David\, and Mohammed Dolatabadi. 
 Join us for a reception to meet them personally and hear about their art a
 long with what inspires them. \n\n
DTSTART;TZID=America/Chicago:20190408T180000
DTEND;TZID=America/Chicago:20190408T190000
LOCATION:Eddie and Kay Aldridge Arts and Historical Collections Museum
SUMMARY:Meet the Artists Reception - Students of Linda Vance
END:VEVENT
END:VCALENDAR
