BEGIN:VCALENDAR
VERSION:2.0
PRODID:-//aldridgegardens.com//NONSGML kigkonsult.se iCalcreator 2.30.10//
CALSCALE:GREGORIAN
METHOD:PUBLISH
UID:a0644019-2216-494e-8594-d08360fff576
X-WR-CALDESC:Propagator level members will enjoy their monthly wine recepti
 on while mixing and mingling with the artists. \n\n<b>About the Artists</b
 >\nArtist Linda Vance has instructed over a thousand people in oil and acr
 ylic painting. Some of her most successful students will have their works 
 displayed and available for sale in the gallery during April and May. They
  are Carole Brightbill\, Celeste David\, and Mohammed Dolatabadi. Join us 
 for a reception to meet them personally and hear about their art along wit
 h what inspires them. \n\n<b>This propagator member event will roll into t
 he general artists reception beginning at 6 p.m. </b>\n
X-WR-RELCALID:32d640a23cb51ce835108cd0cec2b99c
X-WR-TIMEZONE:America/Chicago
BEGIN:VTIMEZONE
TZID:America/Chicago
BEGIN:STANDARD
TZNAME:CST
DTSTART:20181104T020000
TZOFFSETFROM:-0500
TZOFFSETTO:-0600
RDATE:20191103T020000
END:STANDARD
BEGIN:DAYLIGHT
TZNAME:CDT
DTSTART:20190310T020000
TZOFFSETFROM:-0600
TZOFFSETTO:-0500
RDATE:20200308T020000
END:DAYLIGHT
END:VTIMEZONE
BEGIN:VEVENT
UID:71779ad9-7004-4cae-8f4f-0b29a4d6b138
DTSTAMP:20260420T105454Z
DESCRIPTION:Propagator level members will enjoy their monthly wine receptio
 n while mixing and mingling with the artists. \n\n<b>About the Artists</b>
 \nArtist Linda Vance has instructed over a thousand people in oil and acry
 lic painting. Some of her most successful students will have their works d
 isplayed and available for sale in the gallery during April and May. They 
 are Carole Brightbill\, Celeste David\, and Mohammed Dolatabadi. Join us f
 or a reception to meet them personally and hear about their art along with
  what inspires them. \n\n<b>This propagator member event will roll into th
 e general artists reception beginning at 6 p.m. </b>\n
DTSTART;TZID=America/Chicago:20190408T170000
DTEND;TZID=America/Chicago:20190408T180000
LOCATION:Eddie and Kay Aldridge Arts and Historical Collections Museum
SUMMARY:Propagator Wine Reception - Students of Linda Vance
END:VEVENT
END:VCALENDAR
