BEGIN:VCALENDAR
VERSION:2.0
PRODID:-//aldridgegardens.com//NONSGML kigkonsult.se iCalcreator 2.30.10//
CALSCALE:GREGORIAN
METHOD:PUBLISH
UID:5b21ad9f-df68-49e8-94cf-ec5f51b4054b
X-WR-CALDESC:<b>This event is being rescheduled. More details to come later
 .</b>\n\nLearn the basics of birding\, including why\, where\, and how\, f
 rom Richard and Patricia Ryel. Then spend some time in the Gardens practic
 ing what was preached. Tuesday\, April 16\, from 6:30 to 7:30 p.m. \n\nCos
 t is $15 for Aldridge Gardens members and $20 nonmembers. Space is limited
 . Register now. \n\nLead by:\nRichard and Patricia Ryel\n\n<b>This event i
 s being rescheduled. More details to come later.</b>\n
X-WR-RELCALID:f185b00bfd5ee81d89fa1e7adc6ee0d1
X-WR-TIMEZONE:America/Chicago
BEGIN:VTIMEZONE
TZID:America/Chicago
BEGIN:STANDARD
TZNAME:CST
DTSTART:20181104T020000
TZOFFSETFROM:-0500
TZOFFSETTO:-0600
RDATE:20191103T020000
END:STANDARD
BEGIN:DAYLIGHT
TZNAME:CDT
DTSTART:20190310T020000
TZOFFSETFROM:-0600
TZOFFSETTO:-0500
RDATE:20200308T020000
END:DAYLIGHT
END:VTIMEZONE
BEGIN:VEVENT
UID:64d881ca-b7c1-4160-b121-e6baebb1dbad
DTSTAMP:20260420T110007Z
DESCRIPTION:<b>This event is being rescheduled. More details to come later.
 </b>\n\nLearn the basics of birding\, including why\, where\, and how\, fr
 om Richard and Patricia Ryel. Then spend some time in the Gardens practici
 ng what was preached. Tuesday\, April 16\, from 6:30 to 7:30 p.m. \n\nCost
  is $15 for Aldridge Gardens members and $20 nonmembers. Space is limited.
  Register now. \n\nLead by:\nRichard and Patricia Ryel\n\n<b>This event is
  being rescheduled. More details to come later.</b>\n
DTSTART;TZID=America/Chicago:20190416T180000
DTEND;TZID=America/Chicago:20190416T193000
LOCATION:
SUMMARY:Introduction to Birding
END:VEVENT
END:VCALENDAR
