BEGIN:VCALENDAR
VERSION:2.0
PRODID:-//aldridgegardens.com//NONSGML kigkonsult.se iCalcreator 2.30.10//
CALSCALE:GREGORIAN
METHOD:PUBLISH
UID:71e71e62-8849-4726-a924-6cc2c0a057c0
X-WR-CALDESC:<b>This event is being rescheduled. More details to come later
 .</b>\n\nCustoms Cafe Swedish Cooking and Culture Demo\n\nJoin us on April
  18th\, from 6 to 8 p.m. in the Aldridge house. Teresa White\, owner of Cu
 stom's Cafe\, will tell us all about the customs and culture of Sweden and
  show you how to make a delicious cake that you'll also get to sample! \n
 \nRegistration is $25 for Aldridge Gardens members and $30 for nonmembers.
  But space is limited\, so reserve your spot today.\n\n<b>This event is be
 ing rescheduled. More details to come later.</b>\n
X-WR-RELCALID:ac96f36c422955f60f7cc51cc289d124
X-WR-TIMEZONE:America/Chicago
BEGIN:VTIMEZONE
TZID:America/Chicago
BEGIN:STANDARD
TZNAME:CST
DTSTART:20181104T020000
TZOFFSETFROM:-0500
TZOFFSETTO:-0600
RDATE:20191103T020000
END:STANDARD
BEGIN:DAYLIGHT
TZNAME:CDT
DTSTART:20190310T020000
TZOFFSETFROM:-0600
TZOFFSETTO:-0500
RDATE:20200308T020000
END:DAYLIGHT
END:VTIMEZONE
BEGIN:VEVENT
UID:831fadd9-4a45-4da7-8aa6-68581fb17206
DTSTAMP:20260420T110552Z
DESCRIPTION:<b>This event is being rescheduled. More details to come later.
 </b>\n\nCustoms Cafe Swedish Cooking and Culture Demo\n\nJoin us on April 
 18th\, from 6 to 8 p.m. in the Aldridge house. Teresa White\, owner of Cus
 tom's Cafe\, will tell us all about the customs and culture of Sweden and 
 show you how to make a delicious cake that you'll also get to sample! \n\n
 Registration is $25 for Aldridge Gardens members and $30 for nonmembers. B
 ut space is limited\, so reserve your spot today.\n\n<b>This event is bein
 g rescheduled. More details to come later.</b>\n
DTSTART;TZID=America/Chicago:20190418T180000
DTEND;TZID=America/Chicago:20190418T200000
LOCATION:
SUMMARY:Swedish Culture and Cuisine Tasting
END:VEVENT
END:VCALENDAR
