BEGIN:VCALENDAR
VERSION:2.0
PRODID:-//aldridgegardens.com//NONSGML kigkonsult.se iCalcreator 2.30.10//
CALSCALE:GREGORIAN
METHOD:PUBLISH
UID:1d4630f5-4eca-4c09-bb99-0d398abb8dcc
X-WR-CALDESC:<b>This event is being rescheduled. More details to come later
 .</b>\n\nParents and grandparents\, bring your child/grandchild to our Fai
 ry Furniture Workshop! \n\nGet ready to make chairs\, baby beds\, or other
  comforts for your Fairy Garden. Friday\, April 19th\, from 9 to 11 a.m. (
 This is a day many students are out of school). \n\nTilla Marshall and Deb
 bie McDonald will help you make fairy furniture using sticks\, leaves\, gr
 ape vine\, champagne cork cages\, and other found materials. Please bring 
 your own glue gun/sticks and any 'fairy materials' you may have!  \n\nOne 
 registration includes an adult and a child. This is a wonderful grandparen
 t activity. A registered adult may bring a 5 year old or older child with 
 them. However\, you do not have to bring a child.\n\nCost for Aldridge Gar
 dens members $20\, while non-members is $25.\n<b>1 registration includes 1
  adult + 1 child</b>\nMaximum 15 registrations (30 people)\n\n<b>This even
 t is being rescheduled. More details to come later.</b>\n
X-WR-RELCALID:faa906e74bbb95c82eb45edeb1f97828
X-WR-TIMEZONE:America/Chicago
BEGIN:VTIMEZONE
TZID:America/Chicago
BEGIN:STANDARD
TZNAME:CST
DTSTART:20181104T020000
TZOFFSETFROM:-0500
TZOFFSETTO:-0600
RDATE:20191103T020000
END:STANDARD
BEGIN:DAYLIGHT
TZNAME:CDT
DTSTART:20190310T020000
TZOFFSETFROM:-0600
TZOFFSETTO:-0500
RDATE:20200308T020000
END:DAYLIGHT
END:VTIMEZONE
BEGIN:VEVENT
UID:df8f438a-6a44-4a58-bd9f-9cf08cd7436c
DTSTAMP:20260420T105326Z
DESCRIPTION:<b>This event is being rescheduled. More details to come later.
 </b>\n\nParents and grandparents\, bring your child/grandchild to our Fair
 y Furniture Workshop! \n\nGet ready to make chairs\, baby beds\, or other 
 comforts for your Fairy Garden. Friday\, April 19th\, from 9 to 11 a.m. (T
 his is a day many students are out of school). \n\nTilla Marshall and Debb
 ie McDonald will help you make fairy furniture using sticks\, leaves\, gra
 pe vine\, champagne cork cages\, and other found materials. Please bring y
 our own glue gun/sticks and any 'fairy materials' you may have!  \n\nOne r
 egistration includes an adult and a child. This is a wonderful grandparent
  activity. A registered adult may bring a 5 year old or older child with t
 hem. However\, you do not have to bring a child.\n\nCost for Aldridge Gard
 ens members $20\, while non-members is $25.\n<b>1 registration includes 1 
 adult + 1 child</b>\nMaximum 15 registrations (30 people)\n\n<b>This event
  is being rescheduled. More details to come later.</b>\n
DTSTART;TZID=America/Chicago:20190419T090000
DTEND;TZID=America/Chicago:20190419T110000
LOCATION:The House at Aldridge Gardens
SUMMARY:Fairy Furniture Workshop
END:VEVENT
END:VCALENDAR
