BEGIN:VCALENDAR
VERSION:2.0
PRODID:-//aldridgegardens.com//NONSGML kigkonsult.se iCalcreator 2.30.10//
CALSCALE:GREGORIAN
METHOD:PUBLISH
UID:2b557d99-6204-4e21-be67-1b9332110008
X-WR-CALDESC:Join us for our annual Spring Plant Sale. \n\nThursday\, April
  25\, Noon - 7 p.m. (Members Only Day)\nFriday\, April 26\, 9 a.m. - 5 p.m
 .\nSaturday\, April 27\, 9 a.m. - Noon\n\nFind the perfect plants for your
  container or garden spot! Volunteers and gardeners will be on hand to hel
 p with selections and to give advice about placement\, care and maintenanc
 e. \n\nCustomers can own 'a little bit of Aldridge Gardens' when they buy 
 a pass-along plant that lived there! We are going to have many plants with
  an Aldridge Gardens heritage. In addition\, we'll also have many more fro
 m members and friends of the gardens!\n\nOur main feature is always the 'S
 nowflake' hydrangea\, but shoppers can also choose from a host of others. 
 Shoppers will find many varieties and sizes of hydrangeas at our annual Sp
 ring Plant Sale! \n\nMembers get 10% off all purchases with their membersh
 ip card!
X-WR-RELCALID:7ee63ce993a1a6dc28ddbc6516133eb9
X-WR-TIMEZONE:America/Chicago
BEGIN:VTIMEZONE
TZID:America/Chicago
BEGIN:STANDARD
TZNAME:CST
DTSTART:20181104T020000
TZOFFSETFROM:-0500
TZOFFSETTO:-0600
RDATE:20191103T020000
END:STANDARD
BEGIN:DAYLIGHT
TZNAME:CDT
DTSTART:20190310T020000
TZOFFSETFROM:-0600
TZOFFSETTO:-0500
RDATE:20200308T020000
END:DAYLIGHT
END:VTIMEZONE
BEGIN:VEVENT
UID:ef15946e-4598-4450-ba57-0609caa1944e
DTSTAMP:20260420T105352Z
DESCRIPTION:Join us for our annual Spring Plant Sale. \n\nThursday\, April 
 25\, Noon - 7 p.m. (Members Only Day)\nFriday\, April 26\, 9 a.m. - 5 p.m.
 \nSaturday\, April 27\, 9 a.m. - Noon\n\nFind the perfect plants for your 
 container or garden spot! Volunteers and gardeners will be on hand to help
  with selections and to give advice about placement\, care and maintenance
 . \n\nCustomers can own 'a little bit of Aldridge Gardens' when they buy a
  pass-along plant that lived there! We are going to have many plants with 
 an Aldridge Gardens heritage. In addition\, we'll also have many more from
  members and friends of the gardens!\n\nOur main feature is always the 'Sn
 owflake' hydrangea\, but shoppers can also choose from a host of others. S
 hoppers will find many varieties and sizes of hydrangeas at our annual Spr
 ing Plant Sale! \n\nMembers get 10% off all purchases with their membershi
 p card!
DTSTART;TZID=America/Chicago:20190426T090000
DTEND;TZID=America/Chicago:20190426T170000
LOCATION:
SUMMARY:Annual Spring Plant Sale
END:VEVENT
END:VCALENDAR
