BEGIN:VCALENDAR
VERSION:2.0
PRODID:-//aldridgegardens.com//NONSGML kigkonsult.se iCalcreator 2.30.10//
CALSCALE:GREGORIAN
METHOD:PUBLISH
UID:05ef39e5-411f-4fc2-911e-d7ad626e95a5
X-WR-CALDESC:<b>This event has been cancelled.</b>\n\nThis computer-based c
 lass is designed for people with some Photoshop experience. Butch Oglesby 
 will be leading this workshop with the intent to take your photo editing s
 kills to the next level.  Guests need to bring their own laptop\, with Pho
 toshop installed\, and come with the mindset of 'if you can scan it you ca
 n color it.'\n\nCost is $20 for Aldridge Gardens members and $25 nonmember
 s. Space is limited.\n\n\n
X-WR-RELCALID:7c5e12facc7135208e7329658deacdd3
X-WR-TIMEZONE:America/Chicago
BEGIN:VTIMEZONE
TZID:America/Chicago
BEGIN:STANDARD
TZNAME:CST
DTSTART:20181104T020000
TZOFFSETFROM:-0500
TZOFFSETTO:-0600
RDATE:20191103T020000
RDATE:20201101T020000
END:STANDARD
BEGIN:DAYLIGHT
TZNAME:CDT
DTSTART:20190310T020000
TZOFFSETFROM:-0600
TZOFFSETTO:-0500
RDATE:20200308T020000
END:DAYLIGHT
END:VTIMEZONE
BEGIN:VEVENT
UID:365342d2-3846-46d2-937b-df55e1caf626
DTSTAMP:20260420T092538Z
DESCRIPTION:<b>This event has been cancelled.</b>\n\nThis computer-based cl
 ass is designed for people with some Photoshop experience. Butch Oglesby w
 ill be leading this workshop with the intent to take your photo editing sk
 ills to the next level.  Guests need to bring their own laptop\, with Phot
 oshop installed\, and come with the mindset of 'if you can scan it you can
  color it.'\n\nCost is $20 for Aldridge Gardens members and $25 nonmembers
 . Space is limited.\n\n\n
DTSTART;TZID=America/Chicago:20190516T180000
DTEND;TZID=America/Chicago:20190516T200000
LOCATION:
SUMMARY:Hand Tinting Photographs with Butch Oglesby
END:VEVENT
END:VCALENDAR
