BEGIN:VCALENDAR
VERSION:2.0
PRODID:-//aldridgegardens.com//NONSGML kigkonsult.se iCalcreator 2.30.10//
CALSCALE:GREGORIAN
METHOD:PUBLISH
UID:81087045-a6ce-4d44-a752-07f47021ce21
X-WR-CALDESC:<b>This event is now SOLD OUT.</b>\n\nHydrangeas are a major c
 omponent of Southern gardens and the hallmark of Aldridge Gardens.  This h
 ands-on workshop will teach you an easy way to propagate hydrangeas for yo
 urself.  Class members may root up to three fresh hydrangea cuttings to ta
 ke home.\n \nPlease bring a CLEAR\, empty 2 liter plastic soda bottle\, yo
 ur pruners\, and a pair of scissors for trimming leaves.  \n\nInstructors:
  David Doggett and Willie Edmiston\, Hydrangea Propagators\n\nCost: $20 Me
 mbers/$25 Non-Members. \n\n<b>This event is now SOLD OUT.</b>\n
X-WR-RELCALID:489173343ec7e4044199e85d8f32168e
X-WR-TIMEZONE:America/Chicago
BEGIN:VTIMEZONE
TZID:America/Chicago
BEGIN:STANDARD
TZNAME:CST
DTSTART:20181104T020000
TZOFFSETFROM:-0500
TZOFFSETTO:-0600
RDATE:20191103T020000
RDATE:20201101T020000
END:STANDARD
BEGIN:DAYLIGHT
TZNAME:CDT
DTSTART:20190310T020000
TZOFFSETFROM:-0600
TZOFFSETTO:-0500
RDATE:20200308T020000
END:DAYLIGHT
END:VTIMEZONE
BEGIN:VEVENT
UID:90f855e4-9760-42e7-8cb5-d5f927833532
DTSTAMP:20260420T092442Z
DESCRIPTION:<b>This event is now SOLD OUT.</b>\n\nHydrangeas are a major co
 mponent of Southern gardens and the hallmark of Aldridge Gardens.  This ha
 nds-on workshop will teach you an easy way to propagate hydrangeas for you
 rself.  Class members may root up to three fresh hydrangea cuttings to tak
 e home.\n \nPlease bring a CLEAR\, empty 2 liter plastic soda bottle\, you
 r pruners\, and a pair of scissors for trimming leaves.  \n\nInstructors: 
 David Doggett and Willie Edmiston\, Hydrangea Propagators\n\nCost: $20 Mem
 bers/$25 Non-Members. \n\n<b>This event is now SOLD OUT.</b>\n
DTSTART;TZID=America/Chicago:20190525T083000
DTEND;TZID=America/Chicago:20190525T103000
LOCATION:Aldridge Gardens' Hydrangea Garden\, Dirr Collection
SUMMARY:Hydrangea Propagation Workshop
END:VEVENT
END:VCALENDAR
