BEGIN:VCALENDAR
VERSION:2.0
PRODID:-//aldridgegardens.com//NONSGML kigkonsult.se iCalcreator 2.30.10//
CALSCALE:GREGORIAN
METHOD:PUBLISH
UID:8922abc2-ed74-401a-a9a5-cca4ff2d756a
X-WR-CALDESC:June 3-7\nEntering Grades 4th-5th\n\nAmerican Girl Doll activi
 ties for more sophisticated girls!\n\nIt’s time for summer! Girls\, are yo
 u ready for some fun? Bring your doll to camp at Aldridge Gardens. (May al
 so include My Life or Our Generation Dolls.) You and your doll will explor
 e the magic of the Gardens\, you’ll make all kinds of accessories and craf
 ts for you and your dolls\, and even have a tea party!  Join us as we make
  new friends and great memories!\n\nInstructor: Nancy McGowan\n\n<b>This c
 amp has been cancelled.</b>\n\n
X-WR-RELCALID:d7f4d10269d5d0c5b1dcb0535d0e3867
X-WR-TIMEZONE:America/Chicago
BEGIN:VTIMEZONE
TZID:America/Chicago
BEGIN:STANDARD
TZNAME:CST
DTSTART:20181104T020000
TZOFFSETFROM:-0500
TZOFFSETTO:-0600
RDATE:20191103T020000
RDATE:20201101T020000
END:STANDARD
BEGIN:DAYLIGHT
TZNAME:CDT
DTSTART:20190310T020000
TZOFFSETFROM:-0600
TZOFFSETTO:-0500
RDATE:20200308T020000
END:DAYLIGHT
END:VTIMEZONE
BEGIN:VEVENT
UID:ad2e818c-9baf-48bd-bb32-d71e0d757712
DTSTAMP:20260420T074838Z
DESCRIPTION:June 3-7\nEntering Grades 4th-5th\n\nAmerican Girl Doll activit
 ies for more sophisticated girls!\n\nIt’s time for summer! Girls\, are you
  ready for some fun? Bring your doll to camp at Aldridge Gardens. (May als
 o include My Life or Our Generation Dolls.) You and your doll will explore
  the magic of the Gardens\, you’ll make all kinds of accessories and craft
 s for you and your dolls\, and even have a tea party!  Join us as we make 
 new friends and great memories!\n\nInstructor: Nancy McGowan\n\n<b>This ca
 mp has been cancelled.</b>\n\n
DTSTART;TZID=America/Chicago:20190603T090000
DTEND;TZID=America/Chicago:20190603T120000
LOCATION:
SUMMARY:Summer Camp: American Girl Dolls Grades 4th-5th
END:VEVENT
END:VCALENDAR
