BEGIN:VCALENDAR
VERSION:2.0
PRODID:-//aldridgegardens.com//NONSGML kigkonsult.se iCalcreator 2.30.10//
CALSCALE:GREGORIAN
METHOD:PUBLISH
UID:56808a7a-264c-4975-a7e3-a8493b29887b
X-WR-CALDESC:June 3 - 7\nEntering Grades 5k – 3\n\nIt’s time for summer! Gi
 rls\, are you ready for some fun? Bring your doll to camp at Aldridge Gard
 ens. (May also include My Life or Our Generation Dolls.) You and your doll
  will explore the magic of the Gardens\, you’ll make all kinds of accessor
 ies and crafts for you and your dolls\, and even have a tea party!  Join u
 s as we make new friends and great memories!\n\nInstructor: Ki Shin\n\n\n
X-WR-RELCALID:3c82af7b84d6d7e2f856c281a73166c2
X-WR-TIMEZONE:America/Chicago
BEGIN:VTIMEZONE
TZID:America/Chicago
BEGIN:STANDARD
TZNAME:CST
DTSTART:20181104T020000
TZOFFSETFROM:-0500
TZOFFSETTO:-0600
RDATE:20191103T020000
RDATE:20201101T020000
END:STANDARD
BEGIN:DAYLIGHT
TZNAME:CDT
DTSTART:20190310T020000
TZOFFSETFROM:-0600
TZOFFSETTO:-0500
RDATE:20200308T020000
END:DAYLIGHT
END:VTIMEZONE
BEGIN:VEVENT
UID:a75505ee-cc2d-4a27-8373-fabcc9ec2194
DTSTAMP:20260420T073805Z
DESCRIPTION:June 3 - 7\nEntering Grades 5k – 3\n\nIt’s time for summer! Gir
 ls\, are you ready for some fun? Bring your doll to camp at Aldridge Garde
 ns. (May also include My Life or Our Generation Dolls.) You and your doll 
 will explore the magic of the Gardens\, you’ll make all kinds of accessori
 es and crafts for you and your dolls\, and even have a tea party!  Join us
  as we make new friends and great memories!\n\nInstructor: Ki Shin\n\n\n
DTSTART;TZID=America/Chicago:20190603T090000
DTEND;TZID=America/Chicago:20190603T120000
LOCATION:
SUMMARY:Summer Camp: American Girl Dolls Grades 5k-3rd
END:VEVENT
END:VCALENDAR
